BEGIN:VCALENDAR
VERSION:2.0
PRODID:-//Chebro100 - ECPv6.15.20//NONSGML v1.0//EN
CALSCALE:GREGORIAN
METHOD:PUBLISH
X-WR-CALNAME:Chebro100
X-ORIGINAL-URL:https://chebro100.com/fr/
X-WR-CALDESC:Évènements pour Chebro100
REFRESH-INTERVAL;VALUE=DURATION:PT1H
X-Robots-Tag:noindex
X-PUBLISHED-TTL:PT1H
BEGIN:VTIMEZONE
TZID:UTC
BEGIN:STANDARD
TZOFFSETFROM:+0000
TZOFFSETTO:+0000
TZNAME:UTC
DTSTART:20250101T000000
END:STANDARD
END:VTIMEZONE
BEGIN:VEVENT
DTSTART;TZID=UTC:20260421T180000
DTEND;TZID=UTC:20260421T233000
DTSTAMP:20260420T193906
CREATED:20260406T083354Z
LAST-MODIFIED:20260407T150021Z
UID:5671-1776794400-1776814200@chebro100.com
SUMMARY:Présentation institutionnelle du livre du Centenaire : Por la cuenca del Ebro
DESCRIPTION:Présentation de Por la cuenca del Ebro\, livre du centenaire de la Confederación Hidrográfica del Ebro (CHE). À deux jours de la Fête du livre\, cet acte institutionnel réunira des participants des sept chapitres de l’ouvrage\, modérés par l’écrivain et journaliste Antón Castro\, également auteur de l’un des textes.  \n\nL’événement comptera\, en outre\, sur la présence du président de la CHE\, Carlos Arrazola\, et du commissaire du Centenaire\, Javier San Román\, actuel commissaire adjoint des eaux de la CHE.
URL:https://chebro100.com/fr/agenda/presentation-institutionnelle-du-livre-du-centenaire-por-la-cuenca-del-ebro/
CATEGORIES:Information
ATTACH;FMTTYPE=image/png:https://chebro100.com/wp-content/uploads/2026/04/Por-la-cuenca-del-ebro-21-de-abril_4.png
END:VEVENT
BEGIN:VEVENT
DTSTART;TZID=UTC:20260429T090000
DTEND;TZID=UTC:20260429T203000
DTSTAMP:20260420T193906
CREATED:20250903T054901Z
LAST-MODIFIED:20251117T085145Z
UID:2210-1777453200-1777494600@chebro100.com
SUMMARY:LOGROÑO Exposition du centenaire
DESCRIPTION:Logroño est une ville née sur les rives du del Ebro. Le fleuve a toujours été un axe central de la vie sociale\, scientifique et économique de la ville\, structurant son paysage et rythmant son développement. La Casa de las Ciencias\, située sur la rive\, symbolise la vocation de diffusion de Logroño et son engagement en faveur de la connaissance\, de l’environnement et de la participation citoyenne.  L’Èbre a marqué la croissance de la ville\, son patrimoine et sa capacité à s’adapter aux défis de l’eau.  Des ponts historiques à la modernisation de ses berges\, Logroño a réussi à unir tradition et science\, en intégrant la rivière dans sa vie quotidienne et dans l’éducation des nouvelles générations. \n\nLa relation de LOGROÑO avec la Confederación Hidrográfica del Ebro est active et étroite : la ville a été le théâtre de projets pionniers en matière de gestion de l’eau\, de restauration des rivières et d’activités de diffusion scientifique. Aujourd’hui\, Logroño est un exemple d’intégration du del Ebro en tant que lieu d’apprentissage et de rencontre pour l’ensemble de la société.
URL:https://chebro100.com/fr/agenda/logrono-exposition-du-centenaire/
CATEGORIES:À la une,Exposition
ATTACH;FMTTYPE=image/jpeg:https://chebro100.com/wp-content/uploads/2025/09/Logroño-cabecera-casa-de-las-ciencias.jpg
END:VEVENT
BEGIN:VEVENT
DTSTART;TZID=UTC:20260514T180000
DTEND;TZID=UTC:20260514T233000
DTSTAMP:20260420T193906
CREATED:20260219T100820Z
LAST-MODIFIED:20260223T142551Z
UID:4807-1778781600-1778801400@chebro100.com
SUMMARY:Rencontres à Logroño
DESCRIPTION:Les Rencontres du Centenaire sont un cycle de conversations ouvertes visant à rapprocher le centenaire de la Confédération hydrographique de l’Èbre du territoire et des citoyens. Dans chaque lieu\, la session propose d’aborder le fleuve et son bassin sous différents angles — histoire\, gestion de l’eau\, paysage\, patrimoine\, défis environnementaux — avec un format accessible\, informatif et conçu pour écouter\, poser des questions et comprendre.  \n\nLes intervenants et les thèmes spécifiques de chaque rencontre seront publiés dans les prochaines semaines. L’entrée est libre dans la limite des places disponibles.
URL:https://chebro100.com/fr/agenda/rencontres-a-logrono/
CATEGORIES:À la une,Rencontres
ATTACH;FMTTYPE=image/jpeg:https://chebro100.com/wp-content/uploads/2026/02/Logrono-encuentros_azul-scaled.jpg
END:VEVENT
BEGIN:VEVENT
DTSTART;TZID=UTC:20260612T110000
DTEND;TZID=UTC:20260712T200000
DTSTAMP:20260420T193906
CREATED:20250904T123246Z
LAST-MODIFIED:20260409T144920Z
UID:2192-1781262000-1783886400@chebro100.com
SUMMARY:Exposition du centenaire de VITORIA-GASTEIZ
DESCRIPTION:Vitoria-Gasteiz\, reconnue comme Capitale verte de l’Europe en 2012\, est un exemple d’intégration entre nature\, ville et durabilité. Aux portes de l’Anneau Vert\, le centre d’interprétation Ataria offre une vision unique des zones humides de Salburua\, l’une des zones humides les plus précieuses du nord de la péninsule. Cet environnement\, de haute valeur écologique\, relie la ville aux paysages fluviaux du bassin de l’Èbre\, créant un espace où l’eau\, la biodiversité et la conscience environnementale s’entrecroisent.   \n\nAtaria n’est pas seulement un centre de vulgarisation. C’est un point de rencontre pour l’éducation environnementale\, la participation citoyenne et la recherche scientifique sur la gestion de l’eau et la conservation des zones humides. La Confederación Hidrográfica del Ebro (CHE) maintient une étroite collaboration avec Vitoria-Gasteiz et l’environnement de Salburua\, en impulsant des projets de restauration fluviale et de sensibilisation à l’utilisation durable des ressources hydriques.   \n\nL’exposition itinérante du centenaire de la CHE à Ataria invite à parcourir l’histoire de la gestion de l’Èbre\, en explorant comment la coopération entre les administrations et les citoyens a permis de protéger les écosystèmes liés à l’eau et de garantir un équilibre entre développement urbain et conservation naturelle. Dans ce contexte\, Vitoria-Gasteiz se présente comme un modèle de ville ayant intégré le fleuve et les zones humides dans son identité\, démontrant que la durabilité est la voie vers l’avenir.
URL:https://chebro100.com/fr/agenda/exposition-du-centenaire-de-vitoria-gasteiz/
CATEGORIES:À la une,Exposition
ATTACH;FMTTYPE=image/jpeg:https://chebro100.com/wp-content/uploads/2025/09/Ataria.jpg
END:VEVENT
BEGIN:VEVENT
DTSTART;TZID=UTC:20260618T173000
DTEND;TZID=UTC:20260618T233000
DTSTAMP:20260420T193906
CREATED:20260219T122055Z
LAST-MODIFIED:20260407T145833Z
UID:4831-1781803800-1781825400@chebro100.com
SUMMARY:Rencontres à Vitoria-Gasteiz
DESCRIPTION:Les Rencontres du Centenaire sont un cycle de conversations ouvertes pour faire connaître le centenaire de la Confederación Hidrográfica del Ebro aux territoires et aux citoyens. Dans chaque lieu\, la session propose d’aborder le fleuve et son bassin sous différents angles —histoire\, gestion de l’eau\, paysage\, patrimoine et défis environnementaux—\, avec un format accessible\, informatif et conçu pour écouter\, interroger et comprendre. Cette structure suit la ligne déjà utilisée sur la page de Miranda de Ebro.    \n\nÀ Vitoria-Gasteiz\, la session se tiendra sous le titre « Passé\, présent et futur de la gestion de l’eau en Álava » et abordera deux questions particulièrement liées au territoire\, à l’évolution de la gestion hydrique et à la collaboration entre institutions. Y participeront José María Sanz de Galdeano Equiza\, avec l’intervention « Le système Zadorra : évolution\, gestion des risques et collaboration institutionnelle »\, et Ángel Llamazares Álvarez\, avec la conférence « La gestion publique de l’eau urbaine en Álava : l’indispensable collaboration entre institutions. Vision d’AMVISA (Vitoria-Gasteiz) ».  \n\nLa session aura lieu le 18 juin 2026\, à 17h30\, au Centre d’interprétation Ataria\, et fait partie du programme d’activités du centenaire de la CHE à Vitoria-Gasteiz. Ce sera l’occasion d’aborder différentes perspectives sur la gestion de l’eau en Álava : l’évolution du système Zadorra\, la gestion des risques\, le rôle de la planification et la coopération entre administrations dans la gestion publique de l’eau urbaine.  \n\nJosé María Sanz de Galdeano Equiza est directeur de la Planification et des Travaux depuis la création de l’Agence Basque de l’Eau (URA)\, organisme du Gouvernement Basque responsable de la politique de l’eau en Euskadi. Il a mené toute sa carrière professionnelle dans le domaine de la gestion hydrique\, avec des responsabilités en planification hydrologique\, gestion des risques d’inondation\, aménagement du territoire et traitement des autorisations et concessions dans les bassins intérieurs. Il possède une vaste expérience en coordination institutionnelle en matière d’eau.   \n\nÁngel Llamazares Álvarez est ingénieur industriel et a développé sa carrière professionnelle dans le domaine de l’eau\, tant dans le secteur privé que dans la gestion publique. Entre 2006 et 2024\, il a été gérant d’AMVISA\, l’entreprise publique de gestion de l’eau urbaine de Vitoria-Gasteiz\, d’où il a promu des modèles de gestion axés sur le service public et la collaboration institutionnelle. Il est actuellement à la retraite.   \n\nL’entrée est libre dans la limite des places disponibles
URL:https://chebro100.com/fr/agenda/rencontres-a-vitoria-gasteiz/
CATEGORIES:Rencontres
ATTACH;FMTTYPE=image/jpeg:https://chebro100.com/wp-content/uploads/2026/02/Vitoria-encuentros_2-scaled.jpg
END:VEVENT
BEGIN:VEVENT
DTSTART;TZID=UTC:20260723T090000
DTEND;TZID=UTC:20260830T210000
DTSTAMP:20260420T193906
CREATED:20250905T131617Z
LAST-MODIFIED:20251128T102238Z
UID:2181-1784797200-1788123600@chebro100.com
SUMMARY:Exposition du centenaire de PAMPLONA
DESCRIPTION:Traversée par la rivière Arga\, Pampelune a toujours été liée au bassin de l’Èbre et à la gestion de ses affluents en Navarre. L’Arga\, qui structure la ville et ses jardins potagers\, a marqué la vie quotidienne\, le développement urbain et l’identité culturelle et historique de la région. Depuis les premiers pas de la Confédération en 1926\, la Navarre a joué un rôle actif dans la planification hydraulique\, avec des projets d’irrigation\, de régulation des débits et des actions environnementales axées sur la durabilité de l’eau.   \n\nLa relation de Pamplona avec le CHE a un caractère fondateur : un lieu clé du bassin qui rappelle la valeur de la participation territoriale à ce modèle de gestion pionnier. L’exposition du centenaire est installée dans la salle gothique du Palacio del Condestable\, au cœur du quartier historique\, comme un lieu de rencontre qui relie cette mémoire collective au présent.
URL:https://chebro100.com/fr/agenda/exposition-du-centenaire-de-pamplona/
CATEGORIES:Exposition
ATTACH;FMTTYPE=image/jpeg:https://chebro100.com/wp-content/uploads/2025/09/pamplona-vuelta-del-castillo-ciudadela-vista-panoramica.jpg
END:VEVENT
BEGIN:VEVENT
DTSTART;TZID=UTC:20260730T180000
DTEND;TZID=UTC:20260730T233000
DTSTAMP:20260420T193906
CREATED:20260219T124042Z
LAST-MODIFIED:20260223T142745Z
UID:4821-1785434400-1785454200@chebro100.com
SUMMARY:Rencontres à Pamplona
DESCRIPTION:Les Rencontres du Centenaire sont un cycle de conversations ouvertes visant à rapprocher le centenaire de la Confédération hydrographique de l’Èbre du territoire et des citoyens. Dans chaque lieu\, la session propose d’aborder le fleuve et son bassin sous différents angles — histoire\, gestion de l’eau\, paysage\, patrimoine\, défis environnementaux — avec un format accessible\, informatif et conçu pour écouter\, poser des questions et comprendre.  \n\nLes intervenants et les thèmes spécifiques de chaque rencontre seront publiés dans les prochaines semaines. L’entrée est libre dans la limite des places disponibles.
URL:https://chebro100.com/fr/agenda/rencontres-a-pamplona/
CATEGORIES:Rencontres
ATTACH;FMTTYPE=image/jpeg:https://chebro100.com/wp-content/uploads/2026/02/Pamplona-encuentros-scaled.jpg
END:VEVENT
BEGIN:VEVENT
DTSTART;TZID=UTC:20260917T090000
DTEND;TZID=UTC:20261018T210000
DTSTAMP:20260420T193906
CREATED:20250906T115232Z
LAST-MODIFIED:20251128T101821Z
UID:2170-1789635600-1792357200@chebro100.com
SUMMARY:Exposition du centenaire de LLEIDA
DESCRIPTION:Lleida\, ville marquée par le Segre\, a forgé son identité autour de l’eau. Le Segre\, affluent essentiel de l’Èbre\, a façonné ses vergers\, favorisé l’irrigation et accompagné le développement agricole et industriel de la province. Depuis les débuts de la Confédération\, la CHE a considéré Lleida comme un territoire clé : en 1928\, la ville a accueilli la première exposition agricole organisée par la CHE\, un événement pionnier qui a montré l’implication précoce de la ville dans le modèle de gestion hydraulique.  La relation de Lleida avec le CHE a été historique et continue d’être active\, liée à des projets de régulation\, des infrastructures d’irrigation et des actions environnementales qui ont consolidé une gestion participative et durable de la ressource. L’exposition itinérante du centenaire est installée dans la Sala Polivalent du Museu de Lleida\, au cœur du centre-ville\, comme un lieu de rencontre pour se souvenir de cet héritage et le projeter dans l’avenir.
URL:https://chebro100.com/fr/agenda/exposition-du-centenaire-de-lleida/
CATEGORIES:Exposition
ATTACH;FMTTYPE=image/jpeg:https://chebro100.com/wp-content/uploads/2025/09/Lleida-rio-Segre.jpg
END:VEVENT
BEGIN:VEVENT
DTSTART;TZID=UTC:20261001T180000
DTEND;TZID=UTC:20261001T233000
DTSTAMP:20260420T193906
CREATED:20260220T101343Z
LAST-MODIFIED:20260223T142909Z
UID:4865-1790877600-1790897400@chebro100.com
SUMMARY:Rencontres à Lleida
DESCRIPTION:Les Rencontres du Centenaire sont un cycle de conversations ouvertes visant à rapprocher le centenaire de la Confédération hydrographique de l’Èbre du territoire et des citoyens. Dans chaque lieu\, la session propose d’aborder le fleuve et son bassin sous différents angles — histoire\, gestion de l’eau\, paysage\, patrimoine\, défis environnementaux — avec un format accessible\, informatif et conçu pour écouter\, poser des questions et comprendre.  \n\nLes intervenants et les thèmes spécifiques de chaque rencontre seront publiés dans les prochaines semaines. L’entrée est libre dans la limite des places disponibles.
URL:https://chebro100.com/fr/agenda/rencontres-a-lleida/
CATEGORIES:Rencontres
ATTACH;FMTTYPE=image/jpeg:https://chebro100.com/wp-content/uploads/2026/02/Lleida-encuentros-scaled.jpg
END:VEVENT
BEGIN:VEVENT
DTSTART;TZID=UTC:20261008T080000
DTEND;TZID=UTC:20270131T170000
DTSTAMP:20260420T193906
CREATED:20250915T125211Z
LAST-MODIFIED:20251117T085304Z
UID:2151-1791446400-1801414800@chebro100.com
SUMMARY:ZARAGOZA Exposition du centenaire
DESCRIPTION:L’exposition centrale de la CHE se tient à Zaragoza\, la ville où est née la première confédération hydrographique du monde et le siège institutionnel actuel de l’organisation\, dans le bâtiment historique du Paseo de Sagasta. \n\nL’exposition\, située au Palacio de Sástago\, couvre cent ans d’histoire de la gestion de l’eau dans le bassin de l’Ebro. Depuis le modèle pionnier promu par Lorenzo Pardo en 1926 jusqu’aux plans de durabilité actuels\, Zaragoza a été et est l’axe d’un système technique\, social et environnemental qui relie neuf communautés autonomes à travers le fleuve. L’exposition montre le rôle du CHE dans la transformation du territoire : infrastructures hydrauliques\, projets de restauration des rivières\, avancées technologiques\, initiatives de participation des citoyens et programmes de protection de l’environnement naturel. \n\nZaragoza et l’Èbre ont une histoire commune. Cette exposition est également un point de rencontre pour les citoyens\, les institutions et les agents du territoire afin de réfléchir à l’avenir de la rivière qui nous unit.
URL:https://chebro100.com/fr/agenda/exposition-du-centenaire-de-zaragoza/
CATEGORIES:Exposition
ATTACH;FMTTYPE=image/jpeg:https://chebro100.com/wp-content/uploads/2025/09/Zaragoza-rio-ebro-copia.jpg
END:VEVENT
BEGIN:VEVENT
DTSTART;TZID=UTC:20261029T090000
DTEND;TZID=UTC:20261128T210000
DTSTAMP:20260420T193906
CREATED:20250908T120920Z
LAST-MODIFIED:20260407T145706Z
UID:2152-1793264400-1795899600@chebro100.com
SUMMARY:Exposition du centenaire de HUESCA
DESCRIPTION:L’exposition itinérante du centenaire du CHE arrive à Huesca\, ville liée à la rivière Isuela et à ses affluents. Des premiers projets d’irrigation à la construction des grandes infrastructures hydrauliques de la province de Huesca\, cette dernière a joué un rôle décisif dans l’histoire du CHE\, participant activement à la transformation de l’agriculture\, au développement rural et à la gestion coordonnée de l’eau. \n\nL’étroite collaboration entre Huesca et le CHE remonte aux débuts de l’organisation en 1926\, un lien essentiel pour garantir la sécurité de l’eau et l’utilisation durable des ressources. Cette trajectoire est aujourd’hui commémorée dans la Nef II du Centre culturel Manuel Benito Moliner\, un bâtiment d’architecture industrielle du début du XXe siècle\, classé au patrimoine culturel aragonais.  \n\nL’exposition retrace les cent ans de gestion de l’eau dans le bassin de l’Èbre\, en combinant des panneaux explicatifs\, des photographies historiques\, des maquettes et des contenus audiovisuels. L’objectif est de sensibiliser le public à l’importance d’une gestion durable de l’eau\, un pilier essentiel pour le présent et l’avenir des communautés locales.
URL:https://chebro100.com/fr/agenda/exposition-du-centenaire-de-huesca/
CATEGORIES:Exposition
ATTACH;FMTTYPE=image/jpeg:https://chebro100.com/wp-content/uploads/2025/09/huesca-vista-panoramica-desde-catedral.jpeg
END:VEVENT
BEGIN:VEVENT
DTSTART;TZID=UTC:20261112T180000
DTEND;TZID=UTC:20261112T233000
DTSTAMP:20260420T193906
CREATED:20260220T102958Z
LAST-MODIFIED:20260223T143325Z
UID:4869-1794506400-1794526200@chebro100.com
SUMMARY:Rencontres à Huesca
DESCRIPTION:Les Rencontres du Centenaire sont un cycle de conversations ouvertes visant à rapprocher le centenaire de la Confédération hydrographique de l’Èbre du territoire et des citoyens. Dans chaque lieu\, la session propose d’aborder le fleuve et son bassin sous différents angles — histoire\, gestion de l’eau\, paysage\, patrimoine\, défis environnementaux — avec un format accessible\, informatif et conçu pour écouter\, poser des questions et comprendre.  \n\nLes intervenants et les thèmes spécifiques de chaque rencontre seront publiés dans les prochaines semaines. L’entrée est libre dans la limite des places disponibles.
URL:https://chebro100.com/fr/agenda/rencontres-a-huesca/
CATEGORIES:Rencontres
ATTACH;FMTTYPE=image/jpeg:https://chebro100.com/wp-content/uploads/2026/02/Huesca-encuentros_2-scaled.jpg
END:VEVENT
BEGIN:VEVENT
DTSTART;TZID=UTC:20261217T090000
DTEND;TZID=UTC:20270131T210000
DTSTAMP:20260420T193906
CREATED:20250909T122125Z
LAST-MODIFIED:20251128T101004Z
UID:2166-1797498000-1801429200@chebro100.com
SUMMARY:TORTOSA Exposition du centenaire
DESCRIPTION:L‘exposition itinérante du centenaire du CHE termine sa tournée à Tortosa\, une ville clé pour sa relation avec l’Èbre et son rôle dans le Baix Ebre. Située sur les rives du dernier tronçon du fleuve\, Tortosa a toujours été liée à son cours\, en particulier au delta\, une zone unique marquée par des défis environnementaux et de gestion. La collaboration entre Tortosa et la CHE s’est maintenue tout au long d’un siècle\, avec des projets de contrôle hydraulique\, d’irrigation et de protection de l’environnement naturel. Le delta de l’Èbre\, déclaré Parc Naturel et Réserve de Biosphère\, illustre l’importance d’une gestion durable qui garantit l’avenir de cet écosystème et des communautés qui en dépendent. L’exposition est installée au Museu de TORTOSA\, un ancien abattoir municipal de style moderniste reconverti en espace culturel\, un lieu emblématique qui renforce le dialogue entre le patrimoine\, la ville et le territoire.
URL:https://chebro100.com/fr/agenda/tortosa-exposition-du-centenaire/
CATEGORIES:Exposition
ATTACH;FMTTYPE=image/jpeg:https://chebro100.com/wp-content/uploads/2025/09/Tortosa-rio-Ebro.jpg
END:VEVENT
BEGIN:VEVENT
DTSTART;TZID=UTC:20270112T180000
DTEND;TZID=UTC:20270112T233000
DTSTAMP:20260420T193907
CREATED:20260223T142029Z
LAST-MODIFIED:20260223T143325Z
UID:4871-1799776800-1799796600@chebro100.com
SUMMARY:Rencontres à Tortosa
DESCRIPTION:Les Rencontres du Centenaire sont un cycle de conversations ouvertes visant à rapprocher le centenaire de la Confédération hydrographique de l’Èbre du territoire et des citoyens. Dans chaque lieu\, la session propose d’aborder le fleuve et son bassin sous différents angles — histoire\, gestion de l’eau\, paysage\, patrimoine\, défis environnementaux — avec un format accessible\, informatif et conçu pour écouter\, poser des questions et comprendre.  \n\nLes intervenants et les thèmes spécifiques de chaque rencontre seront publiés dans les prochaines semaines. L’entrée est libre dans la limite des places disponibles.
URL:https://chebro100.com/fr/agenda/rencontres-a-tortosa/
CATEGORIES:Rencontres
ATTACH;FMTTYPE=image/jpeg:https://chebro100.com/wp-content/uploads/2026/02/Tortosa-encuentros-scaled.jpg
END:VEVENT
END:VCALENDAR