BEGIN:VCALENDAR
VERSION:2.0
PRODID:-//Chebro100 - ECPv6.15.20//NONSGML v1.0//EN
CALSCALE:GREGORIAN
METHOD:PUBLISH
X-ORIGINAL-URL:https://chebro100.com/eu/
X-WR-CALDESC:Events for Chebro100
REFRESH-INTERVAL;VALUE=DURATION:PT1H
X-Robots-Tag:noindex
X-PUBLISHED-TTL:PT1H
BEGIN:VTIMEZONE
TZID:UTC
BEGIN:STANDARD
TZOFFSETFROM:+0000
TZOFFSETTO:+0000
TZNAME:UTC
DTSTART:20250101T000000
END:STANDARD
END:VTIMEZONE
BEGIN:VEVENT
DTSTART;TZID=UTC:20260723T090000
DTEND;TZID=UTC:20260830T210000
DTSTAMP:20260423T180522
CREATED:20250905T131617Z
LAST-MODIFIED:20251128T102136Z
UID:2368-1784797200-1788123600@chebro100.com
SUMMARY:Iruñea Mendeurrenaren Erakusketa
DESCRIPTION:Iruña\, Arga ibaiak zeharkatua\, beti egon da lotuta Ebroren arroarekin eta Nafarroan dituen ibaiadarren kudeaketarekin. Argak\, hiria eta bere baratzea egituratzen dituenak\, eskualdeko eguneroko bizitza\, hiri-garapena eta nortasun kultural eta historikoa markatu ditu. Konfederazioaren lehen urratsetatik\, 1926an\, Nafarroak zeregin aktiboa izan du plangintza hidraulikoan\, ureztatze-proiektuekin\, emarien erregulazioarekin eta uraren jasangarritasunera bideratutako ingurumen-jarduerekin.   \n\nIruñeak CHErekin duen harremana funtsezkoa da: kudeaketa eredu aitzindari horretan lurraldeek duten partaidetzaren balioa gogorarazten duen arroko funtsezko lekua. Mendeurreneko erakusketa Kondestablearen Jauregiko Areto Gotikoan dago\, hirigune historikoan\, oroimen kolektibo hau orainaldiarekin lotzen duen topagune gisa balio duena.
URL:https://chebro100.com/eu/agenda/irunako-mendeurrenaren-erakusketa/
CATEGORIES:Esposizio
ATTACH;FMTTYPE=image/jpeg:https://chebro100.com/wp-content/uploads/2025/09/pamplona-vuelta-del-castillo-ciudadela-vista-panoramica.jpg
END:VEVENT
BEGIN:VEVENT
DTSTART;TZID=UTC:20260917T090000
DTEND;TZID=UTC:20261018T210000
DTSTAMP:20260423T180522
CREATED:20250906T115232Z
LAST-MODIFIED:20251128T101631Z
UID:2377-1789635600-1792357200@chebro100.com
SUMMARY:LLEIDA Mendeurrenaren Erakusketa
DESCRIPTION:Lleidak\, Segrek markatutako hiriak\, bere nortasuna uraren inguruan eratu du. Segre ibaiak\, Ebroren funtsezko ibaiadarrak\, bere baratzeari forma eman dio\, ureztaketak bultzatuz eta probintziako nekazaritza eta industria garapena lagunduz. Konfederazioaren hasieratik\, CHEk funtsezko lurraldetzat jo zuen Lleida: 1928an\, CHEk antolatutako lehen nekazaritza-lagina hartu zuen hiriak\, hiriak kudeaketa hidraulikoaren ereduan izan zuen inplikazio goiztiarra erakutsi zuen ekintza aitzindaria.  Lleidak CHErekin izan duen harremana historikoa izan da\, eta aktiboa izaten jarraitzen du\, erregulazio-proiektuei\, ureztatze-azpiegiturei eta baliabidearen kudeaketa parte-hartzailea eta iraunkorra sendotu duten ingurumen-jarduerei lotuta. Mendeurreneko erakusketa ibiltaria Lleidako Museu Polivalent Aretoan egiten ari da\, hirigunean bertan\, ondare hori gogoratzeko eta etorkizunera begira proiektatzeko bilgune gisa.
URL:https://chebro100.com/eu/agenda/lleida-mendeurrenaren-erakusketa/
CATEGORIES:Esposizio
ATTACH;FMTTYPE=image/jpeg:https://chebro100.com/wp-content/uploads/2025/09/Lleida-rio-Segre.jpg
END:VEVENT
BEGIN:VEVENT
DTSTART;TZID=UTC:20261001T180000
DTEND;TZID=UTC:20261001T233000
DTSTAMP:20260423T180522
CREATED:20260220T101343Z
LAST-MODIFIED:20260223T142808Z
UID:4848-1790877600-1790897400@chebro100.com
SUMMARY:Topaketak Lleidan
DESCRIPTION:Mendeurrena topaketak elkarrizketa irekien ziklo bat dira\, Ebroko Konfederazio Hidrografikoaren mendeurrena lurraldearengana eta herritarrenengana hurbiltzeko. Egoitza bakoitzean\, saioak ibaiari eta bere arroari hainbat ikuspegitik begiratzea proposatzen du —historia\, uraren kudeaketa\, paisaia\, ondarea\, ingurumen-erronkak— formatu hurbil\, dibulgatzaile eta entzuteko\, galdetzeko eta ulertzeko pentsatua duena.  \n\nHurrengo asteetan hizlari diren pertsonak eta topaketa bakoitzaren gai zehatzak argitaratuko dira. Sarrera doan da lekuak bete arte.
URL:https://chebro100.com/eu/agenda/topaketak-lleidan/
CATEGORIES:Topaketak
ATTACH;FMTTYPE=image/jpeg:https://chebro100.com/wp-content/uploads/2026/02/Lleida-encuentros-scaled.jpg
END:VEVENT
BEGIN:VEVENT
DTSTART;TZID=UTC:20261008T080000
DTEND;TZID=UTC:20270131T170000
DTSTAMP:20260423T180522
CREATED:20250915T125211Z
LAST-MODIFIED:20251114T095657Z
UID:2404-1791446400-1801414800@chebro100.com
SUMMARY:ZARAGOZA Mendeurrenaren Erakusketa
DESCRIPTION:CHEren erakusketa nagusia Zaragoza egiten da. Bertan jaio zen munduko lehen konfederazio hidrografikoa eta erakundearen egungo egoitza instituzionala\, Sagasta ibilbidean eraikin historikoan. \n\nSástago Jauregian kokatutako erakusketak Ebro ibaiaren arroko uraren kudeaketaren ehun urteko historia aztertzen du . 1926an\, Lorenzo Pardok bultzatutako eredu aitzindariaz geroztik\, egungo jasangarritasun-planetaraino\, Zaragoza bederatzi autonomia erkidego ibaian zehar lotzen dituen sistema tekniko\, sozial eta ingurumenekoaren ardatza izan da eta hala da oraindik ere. Erakusketak CHEk eskualdearen eraldaketan izan duen eginkizuna erakusten du: azpiegitura hidraulikoak\, ibaien leheneratze proiektuak\, aurrerapen teknologikoak\, herritarren parte-hartze ekimenak eta ingurune naturala babesteko programak.   \n\nZaragozak eta Ebrok historia komuna dute. Erakusketa hau herritarren\, erakundeen eta tokiko eragileen arteko topagunea ere bada\, elkartzen gaituen ibaiaren etorkizunari buruz hausnartzeko.
URL:https://chebro100.com/eu/agenda/zaragoza-mendeurrenaren-erakusketa/
CATEGORIES:Esposizio
ATTACH;FMTTYPE=image/jpeg:https://chebro100.com/wp-content/uploads/2025/09/Zaragoza-rio-ebro-copia.jpg
END:VEVENT
BEGIN:VEVENT
DTSTART;TZID=UTC:20261029T090000
DTEND;TZID=UTC:20261128T210000
DTSTAMP:20260423T180522
CREATED:20250908T120920Z
LAST-MODIFIED:20260407T145438Z
UID:2385-1793264400-1795899600@chebro100.com
SUMMARY:HUESCA Mendeurrenaren Erakusketa
DESCRIPTION:CHEren mendeurreneko erakusketa ibiltaria Huescara iritsi da\, Isuela ibaiari eta bere ibaiadarrei lotutako hiria. Lehenengo ureztatze proiektuetatik hasi eta Huesca probintziako azpiegitura hidrauliko nagusiak eraiki arte\, probintziak paper erabakigarria izan du CHEren historian\, nekazaritzaren eraldaketan\, landa-garapenean eta uraren kudeaketa koordinatuan aktiboki parte hartuz. \n\nHuesca eta CHEren arteko lankidetza estua 1926an hasi zen\, eta funtsezko lotura da segurtasun hidrikoa eta baliabideen erabilera jasangarria bermatzeko. Ibilbide hori Manuel Benito Moliner Kultur Etxeko II. Nabean oroitzen da orain. XX. mende hasierako industria-arkitekturako eraikina da\, eta Aragoiko Kultura Ondareko Ondasun Katalogatu izendatu zuten.  \n\nErakusketak Ebroko arroaren uraren kudeaketaren ehun urteak erakusten ditu\, azalpen-panelak\, argazki historikoak\, maketak eta ikus-entzunezko edukiak konbinatuz. Helburua da jendeari uraren kudeaketa jasangarriaren garrantzia hurbiltzea\, tokiko komunitateen oraina eta etorkizunerako funtsezko zutabea dena.
URL:https://chebro100.com/eu/agenda/huescako-mendeurrenaren-erakusketa/
CATEGORIES:Esposizio
ATTACH;FMTTYPE=image/jpeg:https://chebro100.com/wp-content/uploads/2025/09/huesca-vista-panoramica-desde-catedral.jpeg
END:VEVENT
BEGIN:VEVENT
DTSTART;TZID=UTC:20261112T180000
DTEND;TZID=UTC:20261112T233000
DTSTAMP:20260423T180522
CREATED:20260220T102958Z
LAST-MODIFIED:20260223T142909Z
UID:4859-1794506400-1794526200@chebro100.com
SUMMARY:Encuentros en Huesca
DESCRIPTION:Mendeurrena topaketak elkarrizketa irekien ziklo bat dira\, Ebroko Konfederazio Hidrografikoaren mendeurrena lurraldearengana eta herritarrenengana hurbiltzeko. Egoitza bakoitzean\, saioak ibaiari eta bere arroari hainbat ikuspegitik begiratzea proposatzen du —historia\, uraren kudeaketa\, paisaia\, ondarea\, ingurumen-erronkak— formatu hurbil\, dibulgatzaile eta entzuteko\, galdetzeko eta ulertzeko pentsatua duena.  \n\nHurrengo asteetan hizlari diren pertsonak eta topaketa bakoitzaren gai zehatzak argitaratuko dira. Sarrera doan da lekuak bete arte.
URL:https://chebro100.com/eu/agenda/encuentros-en-huesca/
CATEGORIES:Topaketak
ATTACH;FMTTYPE=image/jpeg:https://chebro100.com/wp-content/uploads/2026/02/Huesca-encuentros_2-scaled.jpg
END:VEVENT
BEGIN:VEVENT
DTSTART;TZID=UTC:20261217T090000
DTEND;TZID=UTC:20270131T210000
DTSTAMP:20260423T180523
CREATED:20250909T122125Z
LAST-MODIFIED:20251204T111915Z
UID:2390-1797498000-1801429200@chebro100.com
SUMMARY:TORTOSA Mendeurrenaren Erakusketa
DESCRIPTION:CHEren mendeurreneko erakusketa ibiltariak Tortosan amaitzen du bere ibilbidea\, Ebro ibaiarekin duen loturagatik eta Baix Ebre eskualdean duen paperagatik funtsezkoa den hirian. Ibaiaren azken zatiaren ertzean\, Tortosa beti egon da bere ibilbideari lotuta\, batez ere\, deltari\, ingurumen- eta kudeaketa-erronkek markatutako eremu paregabe bati. Tortosa eta CHEren arteko lankidetza mende batean zehar mantendu da\, kontrol hidraulikoaren\, ureztatzeen eta ingurune naturalaren babesaren proiektuekin. Parke Natural eta Biosferaren Erreserba izendatutako Ebroren deltoak kudeaketa jasangarriaren garrantzia erakusten du\, ekosistema honen eta beraren mende dauden komunitateen etorkizuna bermatzeko. Erakusketa Tortosako Museoan instalatuta dago\, antzinako Udal Hiltegian\, estilo modernistakoa eta espazio kultural bihurtua\, ondarearen\, hiriaren eta lurraldearen arteko elkarrizketa indartzen duen leku enblematikoa.
URL:https://chebro100.com/eu/agenda/tortosako-mendeurrenaren-erakusketa/
CATEGORIES:Esposizio
ATTACH;FMTTYPE=image/jpeg:https://chebro100.com/wp-content/uploads/2025/09/Tortosa-rio-Ebro.jpg
END:VEVENT
BEGIN:VEVENT
DTSTART;TZID=UTC:20270112T180000
DTEND;TZID=UTC:20270112T233000
DTSTAMP:20260423T180523
CREATED:20260223T142029Z
LAST-MODIFIED:20260223T143325Z
UID:4873-1799776800-1799796600@chebro100.com
SUMMARY:Topaketak Tortosan
DESCRIPTION:Mendeurrena topaketak elkarrizketa irekien ziklo bat dira\, Ebroko Konfederazio Hidrografikoaren mendeurrena lurraldearengana eta herritarrenengana hurbiltzeko. Egoitza bakoitzean\, saioak ibaiari eta bere arroari hainbat ikuspegitik begiratzea proposatzen du —historia\, uraren kudeaketa\, paisaia\, ondarea\, ingurumen-erronkak— formatu hurbil\, dibulgatzaile eta entzuteko\, galdetzeko eta ulertzeko pentsatua duena.  \n\nHurrengo asteetan hizlari diren pertsonak eta topaketa bakoitzaren gai zehatzak argitaratuko dira. Sarrera doan da lekuak bete arte.
URL:https://chebro100.com/eu/agenda/topaketak-tortosan/
CATEGORIES:Topaketak
ATTACH;FMTTYPE=image/jpeg:https://chebro100.com/wp-content/uploads/2026/02/Tortosa-encuentros-scaled.jpg
END:VEVENT
END:VCALENDAR