BEGIN:VCALENDAR
VERSION:2.0
PRODID:-//Chebro100 - ECPv6.15.20//NONSGML v1.0//EN
CALSCALE:GREGORIAN
METHOD:PUBLISH
X-WR-CALNAME:Chebro100
X-ORIGINAL-URL:https://chebro100.com/eu/
X-WR-CALDESC:Events for Chebro100
REFRESH-INTERVAL;VALUE=DURATION:PT1H
X-Robots-Tag:noindex
X-PUBLISHED-TTL:PT1H
BEGIN:VTIMEZONE
TZID:UTC
BEGIN:STANDARD
TZOFFSETFROM:+0000
TZOFFSETTO:+0000
TZNAME:UTC
DTSTART:20240101T000000
END:STANDARD
END:VTIMEZONE
BEGIN:VTIMEZONE
TZID:Europe/Madrid
BEGIN:DAYLIGHT
TZOFFSETFROM:+0100
TZOFFSETTO:+0200
TZNAME:CEST
DTSTART:20250330T010000
END:DAYLIGHT
BEGIN:STANDARD
TZOFFSETFROM:+0200
TZOFFSETTO:+0100
TZNAME:CET
DTSTART:20251026T010000
END:STANDARD
BEGIN:DAYLIGHT
TZOFFSETFROM:+0100
TZOFFSETTO:+0200
TZNAME:CEST
DTSTART:20260329T010000
END:DAYLIGHT
BEGIN:STANDARD
TZOFFSETFROM:+0200
TZOFFSETTO:+0100
TZNAME:CET
DTSTART:20261025T010000
END:STANDARD
BEGIN:DAYLIGHT
TZOFFSETFROM:+0100
TZOFFSETTO:+0200
TZNAME:CEST
DTSTART:20270328T010000
END:DAYLIGHT
BEGIN:STANDARD
TZOFFSETFROM:+0200
TZOFFSETTO:+0100
TZNAME:CET
DTSTART:20271031T010000
END:STANDARD
END:VTIMEZONE
BEGIN:VEVENT
DTSTART;TZID=UTC:20260326T000000
DTEND;TZID=UTC:20260326T235959
DTSTAMP:20260421T091745
CREATED:20260219T095457Z
LAST-MODIFIED:20260223T142445Z
UID:4789-1774483200-1774569599@chebro100.com
SUMMARY:Miranda de Ebroko topaketak
DESCRIPTION:Mendeurrena topaketak elkarrizketa irekien ziklo bat dira\, Ebroko Konfederazio Hidrografikoaren mendeurrena lurraldearengana eta herritarrenengana hurbiltzeko. Egoitza bakoitzean\, saioak ibaiari eta bere arroari hainbat ikuspegitik begiratzea proposatzen du —historia\, uraren kudeaketa\, paisaia\, ondarea\, ingurumen-erronkak— formatu hurbil\, dibulgatzaile eta entzuteko\, galdetzeko eta ulertzeko pentsatua duena.  \n\nHurrengo asteetan hizlari diren pertsonak eta topaketa bakoitzaren gai zehatzak argitaratuko dira. Sarrera doan da lekuak bete arte.
URL:https://chebro100.com/eu/agenda/miranda-de-ebroko-topaketak/
CATEGORIES:Topaketak
ATTACH;FMTTYPE=image/jpeg:https://chebro100.com/wp-content/uploads/2026/02/Miranda-de-ebro-encuentros_azul-scaled.jpg
END:VEVENT
BEGIN:VEVENT
DTSTART;TZID=UTC:20260317T100000
DTEND;TZID=UTC:20260411T213000
DTSTAMP:20260421T091745
CREATED:20250902T054709Z
LAST-MODIFIED:20251128T102419Z
UID:2352-1773741600-1775943000@chebro100.com
SUMMARY:MIRANDA DE EBRO Mendeurreneko Erakusketa
DESCRIPTION:Miranda de Ebro izena ematen dion ibaiak markatutako hiria da. Gaztela eta Leon\, eta Euskal Herriaren arteko mugan kokatuta\, Ebro muga naturala izan da historian zehar\, baina baita elkartzeko\, trukatzeko eta garatzeko lekua ere. Erdi Aroko zubiak\, fabrika zaharrek eta hiri-egiturak berak adierazten dute urak funtsezko eginkizuna duela bertako biztanleen nortasunean eta eguneroko bizitzan.   \n\nEbro ibaiak ekonomia\, industria eta mugikortasuna sustatu ditu\, Miranda komunikazio-gune estrategiko eta arroko ur-kudeaketaren erreferentziarako gune bihurtu da. Hiriak uholde historikoak jasan ditu\, ibaiertzak eraldatu ditu eta uraren kudeaketa modernoaren erronketara egokitzen jakin du.  \n\nMiranda de Ebrok Ebroko Konfederazio Hidrografikoarekin duen harremana XX. mendearen hasieran hasi zen\, ur-emaria arautu eta hiria babesteko eta ur-hornidura bermatzeko azpiegiturak hobetu baitziren. Gaur egun\, Mirandak ibaiarekin elkarbizitzaren eta uraren kudeaketa publikoa hiri- eta gizarte-garapenean integratzearen adibide izaten jarraitzen du.
URL:https://chebro100.com/eu/agenda/miranda-de-ebro-mendeurreneko-erakusketa/
CATEGORIES:Esposizio
ATTACH;FMTTYPE=image/jpeg:https://chebro100.com/wp-content/uploads/2025/09/miranda-de-ebro-panoramica-copia.jpg
END:VEVENT
BEGIN:VEVENT
DTSTART;TZID=Europe/Madrid:20260305T080000
DTEND;TZID=Europe/Madrid:20260305T170000
DTSTAMP:20260421T091745
CREATED:20260225T111710Z
LAST-MODIFIED:20260407T150050Z
UID:5677-1772697600-1772730000@chebro100.com
SUMMARY:MARTXOAREN 5A: CHEren URTEURRENA (1926–2026)
DESCRIPTION:Gaur\, 2026ko martxoaren 5ean\, ehun urte betetzen dira Errege Dekretuaren sinaduratik\, Ebroko arroko Konfederazio Sindikala Hidrografiko (CSHE) sortzea xedatu zuena\, gaur egungo Confederación Hidrográfica del Ebroren (CHE) aurrekari zuzena. \n\nTestua hurrengo egunean argitaratu zen\, martxoaren 6an\, Madrilgo Aldizkarian\, eta ura kudeatzeko modua aldatu zuen printzipio bat finkatu zuen: arroka planifikatzea (ibaiaren eta haren ibaiadarren unitate naturala)\, administrazio-mugen gainetik. \n\nIkuspegi hark —ikuspegi tekniko eta epe luzekoaren bultzadaz— erabilerak\, obrak eta kontserbazioa lurralde-logika berberetik koordinatu nahi zituen. Mende bat geroago\, ideia hori indarrean jarraitzen du\, erronka konplexuagoekin: lehorte luzeagoak\, uholde azkarragoak eta kudeaketa publikoan gardentasun-eskari handiagoa. Testuinguru osoa ezagutu nahi duzu? .Egin ibilbidea mendeurrenaren historian gure denbora-lerroan
URL:https://chebro100.com/eu/agenda/martxoaren-5a-cheren-urteurrena-1926-2026/
CATEGORIES:Informazioa
ATTACH;FMTTYPE=image/png:https://chebro100.com/wp-content/uploads/2026/02/5-de-marzo-manuel-lorenzo-pardo-scaled.png
END:VEVENT
BEGIN:VEVENT
DTSTART;TZID=UTC:20260115T180000
DTEND;TZID=UTC:20260115T233000
DTSTAMP:20260421T091745
CREATED:20250901T062521Z
LAST-MODIFIED:20260223T142323Z
UID:4778-1768500000-1768519800@chebro100.com
SUMMARY:Topaketak Reinosan
DESCRIPTION:Ebroko Konfederazio Hidrografikoaren (CHE) Mendeurrenak Reinosan elkarrizketarako gune bat irekitzen du lurraldeari\, Ebroko urtegiri eta hiriak uraren kudeaketarekin duen loturaren historiari buruz. Eskualdeko bizitzaren parte den paisaia bat entzuteko\, ulertzeko eta berriro begiratzeko pentsatutako topaketa.  \n\nTopaketan Agustín Monteoliva Herrerasek parte hartuko du\, «Ebroko urtegiko ingurumen-alderdiak» hitzaldiarekin\, eta Rogelio Galván Plazak\, «Konfederazioaren sorrera eta Ebroko urtegia» solasaldiarekin. \n\nSaioa 2026ko urtarrilaren 15ean izango da\, eta CHEren Mendeurreneko jarduera-programaren parte da. Urtegiari buruzko ikuspegi desberdinak hurbiltzeko aukera izango da: egungo egoera\, planteatzen dituen ingurumen-erronkak eta haren kudeaketa kokatzen den testuinguru historikoa.  \n\nAgustín Monteoliva Herreras Biologian doktorea eta Ecohydros\, S. L. enpresako zuzendaria da; Kantabrian egoitza duen ingurumen-aholkularitzako enpresa da\, sistema akuatikoen analisiari eta kudeaketari eskainia. 2003ko urritik kargu hori betetzen du\, eta eskualdeko\, estatuko eta nazioarteko esparruetako ehun proiektu tekniko eta zientifiko baino gehiagotan parte hartu du\, barnealdeko ur-masekin\, urtegien kudeaketarekin eta ingurumen-jarraipeneko programekin lotuta.  \n\nRogelio Galván Plaza herri-lanetako ingeniari teknikoa eta Historian lizentziaduna da. 1998tik Ebroko Konfederazio Hidrografikoan lan egiten du\, eta gaur egun Plangintza Hidrologikoko Bulegoko Azterlan Ekonomiko eta Sozialen Zerbitzua zuzentzen du. Uretan Adituen Sareko koordinatzaile instituzional gisa\, maiz parte hartzen du arroaren plangintza hidrologikoari eta ingurumen-kudeaketari buruzko lan teknikoetan eta foro espezializatuetan\, baliabide hidrikoen analisiari ikuspegi historiko eta soziala emanez.
URL:https://chebro100.com/eu/agenda/topaketak-reinosan/
CATEGORIES:Topaketak
ATTACH;FMTTYPE=image/png:https://chebro100.com/wp-content/uploads/2025/12/La-Naval-Reinosa-1960.png
END:VEVENT
BEGIN:VEVENT
DTSTART;TZID=UTC:20251217T110000
DTEND;TZID=UTC:20260201T203000
DTSTAMP:20260421T091745
CREATED:20250901T062028Z
LAST-MODIFIED:20251117T105210Z
UID:2348-1765969200-1769977800@chebro100.com
SUMMARY:Reinosa Mendeurrenaren Erakusketa
DESCRIPTION:Reinosa\, Fontibreko iturrien ondoan kokatua\, Ebro ibaiaren iturburua da eta penintsulako iparraldeko bide\, paisaia eta kulturen bilgunea . Hiria eta bere ingurunea uraren kudeaketari lotuta egon dira beti\, bai eguneroko bizitzan\, bai Campoo eskualdeko memoria industrial eta sozialean. Urtegiaren erregulaziotik hasi eta papergintza eta metalgintza tradizioetaraino\, Ebro garapenerako motorra eta Reinosaren identitatearen elementu nagusia izan da.   \n\nReinosaren eta CHEren arteko harremana historikoa da. Hemen proiektatu zen Ebroko urtegia eta arroaren lehenengo azpiegitura hidraulikoetako batzuk sustatu ziren\, baliabidearen kudeaketa koordinatu eta jasangarriaren hasiera markatuz.
URL:https://chebro100.com/eu/agenda/reinosaren-mendeurrenaren-erakusketa/
CATEGORIES:Esposizio
ATTACH;FMTTYPE=image/jpeg:https://chebro100.com/wp-content/uploads/2025/09/Reinosa-panoramica-de-la-ciudad-1-scaled.jpg
END:VEVENT
END:VCALENDAR