BEGIN:VCALENDAR
VERSION:2.0
PRODID:-//Chebro100 - ECPv6.15.20//NONSGML v1.0//EN
CALSCALE:GREGORIAN
METHOD:PUBLISH
X-WR-CALNAME:Chebro100
X-ORIGINAL-URL:https://chebro100.com/en/
X-WR-CALDESC:Events for Chebro100
REFRESH-INTERVAL;VALUE=DURATION:PT1H
X-Robots-Tag:noindex
X-PUBLISHED-TTL:PT1H
BEGIN:VTIMEZONE
TZID:UTC
BEGIN:STANDARD
TZOFFSETFROM:+0000
TZOFFSETTO:+0000
TZNAME:UTC
DTSTART:20250101T000000
END:STANDARD
END:VTIMEZONE
BEGIN:VEVENT
DTSTART;TZID=UTC:20261008T080000
DTEND;TZID=UTC:20270131T170000
DTSTAMP:20260423T181016
CREATED:20250915T125211Z
LAST-MODIFIED:20251117T085244Z
UID:2158-1791446400-1801414800@chebro100.com
SUMMARY:ZARAGOZA Centennial Exhibition
DESCRIPTION:The central exhibition of the CHE is held in Zaragoza\, the city where the world’s first hydrographic confederation was born and the current institutional headquarters of the organization\, in the historic building on Paseo de Sagasta. \n\nThe exhibition\, located in the Palacio de Sástago\, covers one hundred years of history of water management in the del Ebro basin. From the pioneering model promoted by Lorenzo Pardo in 1926 to the current sustainability plans\, Zaragoza has been and is the axis of a technical\, social and environmental system that connects nine autonomous communities through the river. The exhibition shows the role of the CHE in the transformation of the territory: hydraulic infrastructures\, river restoration projects\, technological advances\, citizen participation initiatives and programs for the protection of the natural environment.   \n\nZaragoza and the Ebro share a common history. This exhibition is also a meeting point for citizens\, institutions and agents of the territory to reflect on the future of the river that unites us.
URL:https://chebro100.com/en/agenda/zaragoza-centennial-exhibition/
CATEGORIES:Exhibition
ATTACH;FMTTYPE=image/jpeg:https://chebro100.com/wp-content/uploads/2025/09/Zaragoza-rio-ebro-copia.jpg
END:VEVENT
BEGIN:VEVENT
DTSTART;TZID=UTC:20261029T090000
DTEND;TZID=UTC:20261128T210000
DTSTAMP:20260423T181016
CREATED:20250908T120920Z
LAST-MODIFIED:20260407T145657Z
UID:2162-1793264400-1795899600@chebro100.com
SUMMARY:HUESCA Centennial Exhibition
DESCRIPTION:The traveling exhibition of the centenary of the CHE reaches Huesca\, a city linked to the Isuela River and its tributaries. From the first irrigation projects to the construction of major hydraulic infrastructures in the province of Huesca\, the province of Huesca has played a decisive role in the history of the CHE\, actively participating in agricultural transformation\, rural development and coordinated water management. \n\nThe close collaboration between Huesca and the CHE dates back to the beginnings of the organization in 1926\, a key link to ensure water security and sustainable use of resources. This trajectory is now remembered in the Nave II of the Manuel Benito Moliner Cultural Center\, a building of industrial architecture from the beginning of the 20th century\, declared a Catalogued Asset of the Aragonese Cultural Heritage.  \n\nThe exhibition covers one hundred years of water management in the Ebro basin\, combining explanatory panels\, historical photographs\, models\, and audiovisual content. The aim is to bring the importance of sustainable water management closer to the public\, an essential pillar for the present and future of local communities.
URL:https://chebro100.com/en/agenda/huesca-centennial-exhibition/
CATEGORIES:Exhibition
ATTACH;FMTTYPE=image/jpeg:https://chebro100.com/wp-content/uploads/2025/09/huesca-vista-panoramica-desde-catedral.jpeg
END:VEVENT
END:VCALENDAR