BEGIN:VCALENDAR
VERSION:2.0
PRODID:-//Chebro100 - ECPv6.15.20//NONSGML v1.0//EN
CALSCALE:GREGORIAN
METHOD:PUBLISH
X-WR-CALNAME:Chebro100
X-ORIGINAL-URL:https://chebro100.com/en/
X-WR-CALDESC:Events for Chebro100
REFRESH-INTERVAL;VALUE=DURATION:PT1H
X-Robots-Tag:noindex
X-PUBLISHED-TTL:PT1H
BEGIN:VTIMEZONE
TZID:UTC
BEGIN:STANDARD
TZOFFSETFROM:+0000
TZOFFSETTO:+0000
TZNAME:UTC
DTSTART:20250101T000000
END:STANDARD
END:VTIMEZONE
BEGIN:VEVENT
DTSTART;TZID=UTC:20260317T100000
DTEND;TZID=UTC:20260411T213000
DTSTAMP:20260421T071955
CREATED:20250902T054709Z
LAST-MODIFIED:20251128T102541Z
UID:2220-1773741600-1775943000@chebro100.com
SUMMARY:MIRANDA DE EBRO Centennial Exhibition
DESCRIPTION:Miranda de Ebro is a city marked by the river that gives it its name. Located on the border between Castile and León and the Basque Country\, the Ebro has been a natural frontier throughout history\, but also a place of encounter\, exchange\, and development. The medieval bridge\, the old factories\, and the urban structure itself bear witness to the fundamental role of water in the local identity and daily life of its inhabitants.   \n\nThe crossing of the Ebro River has boosted the economy\, industry\, and mobility\, turning Miranda into a strategic communications hub and a benchmark for water management in the basin. The city has experienced historic floods\, transformed its riverbanks\, and adapted to the challenges of modern water management.  \n\nThe Ebro River has boosted the economy\, and Miranda de Ebro’s relationship with the Ebro River Basin Authority dates back to the early 20th century\, with the regulation of water flows and the improvement of infrastructure to protect the city and guarantee its water supply. Today\, Miranda continues to be an example of coexistence with the river and the integration of public water management into urban and social development.
URL:https://chebro100.com/en/agenda/miranda-de-ebro-centenary-exhibition/
CATEGORIES:Exhibition
ATTACH;FMTTYPE=image/jpeg:https://chebro100.com/wp-content/uploads/2025/09/miranda-de-ebro-panoramica-copia.jpg
END:VEVENT
END:VCALENDAR