BEGIN:VCALENDAR
VERSION:2.0
PRODID:-//Chebro100 - ECPv6.15.20//NONSGML v1.0//EN
CALSCALE:GREGORIAN
METHOD:PUBLISH
X-WR-CALNAME:Chebro100
X-ORIGINAL-URL:https://chebro100.com/en/
X-WR-CALDESC:Events for Chebro100
REFRESH-INTERVAL;VALUE=DURATION:PT1H
X-Robots-Tag:noindex
X-PUBLISHED-TTL:PT1H
BEGIN:VTIMEZONE
TZID:UTC
BEGIN:STANDARD
TZOFFSETFROM:+0000
TZOFFSETTO:+0000
TZNAME:UTC
DTSTART:20240101T000000
END:STANDARD
END:VTIMEZONE
BEGIN:VEVENT
DTSTART;TZID=UTC:20251217T110000
DTEND;TZID=UTC:20260201T203000
DTSTAMP:20260423T113318
CREATED:20250901T062028Z
LAST-MODIFIED:20251117T094912Z
UID:2206-1765969200-1769977800@chebro100.com
SUMMARY:REINOSA Centennial exhibition
DESCRIPTION:Reinosa\, located next to the Fontibre springs\, is the birthplace of the Ebro and the meeting point of roads\, landscapes and cultures of the north of the peninsula. The city and its surroundings have always been linked to water management\, both in everyday life and in the industrial and social memory of the Campoo region. From the regulation of the reservoir to the paper and metallurgical tradition\, the Ebro has been an engine of development and a central element in the identity of Reinosa.   \n\nThe relationship between Reinosa and the CHE is historical. Here the del Ebro reservoir was designed and some of the first hydraulic infrastructures of the basin were promoted\, marking the beginning of a coordinated and sustainable management of the resource.
URL:https://chebro100.com/en/agenda/reinosa-centennial-exhibition/
CATEGORIES:Exhibition
ATTACH;FMTTYPE=image/jpeg:https://chebro100.com/wp-content/uploads/2025/09/Reinosa-panoramica-de-la-ciudad-1-scaled.jpg
END:VEVENT
END:VCALENDAR