BEGIN:VCALENDAR
VERSION:2.0
PRODID:-//Chebro100 - ECPv6.15.20//NONSGML v1.0//EN
CALSCALE:GREGORIAN
METHOD:PUBLISH
X-WR-CALNAME:Chebro100
X-ORIGINAL-URL:https://chebro100.com/ca/
X-WR-CALDESC:Esdeveniments per Chebro100
REFRESH-INTERVAL;VALUE=DURATION:PT1H
X-Robots-Tag:noindex
X-PUBLISHED-TTL:PT1H
BEGIN:VTIMEZONE
TZID:UTC
BEGIN:STANDARD
TZOFFSETFROM:+0000
TZOFFSETTO:+0000
TZNAME:UTC
DTSTART:20240101T000000
END:STANDARD
END:VTIMEZONE
BEGIN:VEVENT
DTSTART;TZID=UTC:20251217T110000
DTEND;TZID=UTC:20260201T203000
DTSTAMP:20260422T133912
CREATED:20250901T062028Z
LAST-MODIFIED:20260421T102610Z
UID:2880-1765969200-1769977800@chebro100.com
SUMMARY:REINOSA Exposició del centenari
DESCRIPTION:Reinosa\, situada a tocar de les fonts de Fontibre\, és el lloc on neix l’Ebre i punt de trobada de camins\, paisatges i cultures del nord peninsular . La ciutat i el seu entorn han estat sempre vinculats a la gestió de l’aigua\, tant a la vida quotidiana com a la memòria industrial i social de la comarca de Campoo. Des de la regulació de l’embassament fins a la tradició paperera i metal·lúrgica\, l’Ebre ha estat motor de desenvolupament i element central a la identitat de Reinosa.   \n\nLa relació de Reinosa amb la CHE és històrica. Aquí es va projectar l’embassament d l’Ebro i es van impulsar algunes de les primeres infraestructures hidràuliques de la conca i van marcar l’inici d’una gestió coordinada i sostenible del recurs.
URL:https://chebro100.com/ca/agenda/reinosa-exposicio-del-centenari/
CATEGORIES:Exposició
ATTACH;FMTTYPE=image/jpeg:https://chebro100.com/wp-content/uploads/2025/09/Reinosa-panoramica-de-la-ciudad-1-scaled.jpg
END:VEVENT
END:VCALENDAR