BEGIN:VCALENDAR
VERSION:2.0
PRODID:-//Chebro100 - ECPv6.15.20//NONSGML v1.0//EN
CALSCALE:GREGORIAN
METHOD:PUBLISH
X-WR-CALNAME:Chebro100
X-ORIGINAL-URL:https://chebro100.com/ca/
X-WR-CALDESC:Esdeveniments per Chebro100
REFRESH-INTERVAL;VALUE=DURATION:PT1H
X-Robots-Tag:noindex
X-PUBLISHED-TTL:PT1H
BEGIN:VTIMEZONE
TZID:UTC
BEGIN:STANDARD
TZOFFSETFROM:+0000
TZOFFSETTO:+0000
TZNAME:UTC
DTSTART:20250101T000000
END:STANDARD
END:VTIMEZONE
BEGIN:VEVENT
DTSTART;TZID=UTC:20260421T180000
DTEND;TZID=UTC:20260421T233000
DTSTAMP:20260420T162016
CREATED:20260406T083354Z
LAST-MODIFIED:20260415T104655Z
UID:5667-1776794400-1776814200@chebro100.com
SUMMARY:Presentació institucional del llibre del Centenari: Per la conca de l'Ebre
DESCRIPTION:Presentació de Per la conca de l’Ebre\, llibre del centenari de la Confederación Hidrográfica del Ebro (CHE). \n\nL’acte se celebrarà el dimarts\, 21 d’abril de 2026\, a les 19.00 hores\, al Museu IAACC Pablo Serrano de Zaragoza. \n\nLa publicació proposa un recorregut per la història\, el territori\, la gestió\, el patrimoni\, el medi ambient i la cultura vinculats a la conca de l’Ebre\, a través d’una estructura articulada en set capítols. \n\nAccés lliure fins a completar l’aforament.
URL:https://chebro100.com/ca/agenda/presentacio-institucional-del-llibre-del-centenari-per-la-conca-de-lebre/
CATEGORIES:Informació
ATTACH;FMTTYPE=image/png:https://chebro100.com/wp-content/uploads/2026/04/Por-la-cuenca-del-ebro-21-de-abril_4.png
END:VEVENT
BEGIN:VEVENT
DTSTART;TZID=UTC:20260429T090000
DTEND;TZID=UTC:20260429T203000
DTSTAMP:20260420T162016
CREATED:20250903T054901Z
LAST-MODIFIED:20260415T104706Z
UID:2889-1777453200-1777494600@chebro100.com
SUMMARY:Logroño Exposició del centenari
DESCRIPTION:Logroño és una ciutat nascuda a la vora de l’Ebre. El riu ha estat sempre un eix central en la vida social\, científica i econòmica de la ciutat\, que vertebra el seu paisatge i marca el ritme del seu desenvolupament. La Casa de les Ciències\, situada a la ribera\, simbolitza la vocació divulgativa i el compromís de Logroño amb el coneixement\, el medi ambient i la participació ciutadana.  L’Ebre ha marcat el creixement de la ciutat\, el patrimoni i la capacitat per adaptar-se als reptes de l’aigua. Des dels ponts històrics fins a la modernització de les riberes\, Logroño ha sabut unir tradició i ciència\, incorporant el riu a la seva vida quotidiana ia l’educació de noves generacions. \n\nLa relació de Logroño amb la Confederación Hidrográfica del Ebro és activa i propera: la ciutat ha estat escenari de projectes pioners en gestió de l’aigua\, restauració fluvial i activitats de divulgació científica. Avui\, Logroño és un exemple d’integració de l’Ebre com a espai d’aprenentatge i trobada per a tota la societat.
URL:https://chebro100.com/ca/agenda/logronye-exposicio-del-centenari/
CATEGORIES:Destacat,Exposició
ATTACH;FMTTYPE=image/jpeg:https://chebro100.com/wp-content/uploads/2025/09/Logroño-cabecera-casa-de-las-ciencias.jpg
END:VEVENT
BEGIN:VEVENT
DTSTART;TZID=UTC:20260514T180000
DTEND;TZID=UTC:20260514T233000
DTSTAMP:20260420T162016
CREATED:20260219T100820Z
LAST-MODIFIED:20260415T104718Z
UID:4802-1778781600-1778801400@chebro100.com
SUMMARY:Trobades a Logroño
DESCRIPTION:Les Trobades del Centenari són un cicle de converses obertes per apropar el centenari de la Confederación Hidrográfica del Ebro als territoris i a la ciutadania. A cada seu\, la sessió proposa mirar el riu i la seva conca des de diferents angles (història\, gestió de l’aigua\, paisatge\, patrimoni i reptes ambientals)\, amb un format proper\, divulgatiu i pensat per escoltar\, preguntar i comprendre.  \n\nA Logroño\, la sessió se celebrarà sota el títol «Converses entorn de l’Ebre mitjà: restauració fluvial i espai urbà» i abordarà dues qüestions estretament vinculades al territori: la restauració fluvial i la relació entre ciutat\, natura i espai urbà. \n\nHi participaran Alfredo Ollero Ojeda\, amb la intervenció «Restauració fluvial i hidromorfologia a la conca de l’Ebre»\, i Pablo de la Cal Nicolás\, amb la xerrada «Renaturalització a la ciutat. Límits i desitjos». \n\nLa sessió tindrà lloc el 14 de maig de 2026\, a les 18:00 h\, a la Casa de les Ciències de Logroño\, espai que ja figura a l’agenda del centenari com a seu de l’exposició del programa a la ciutat. \n\nSerà una oportunitat per apropar al públic dues mirades complementàries sobre l’Ebre mitjà: d’una banda\, l’estudi de la dinàmica fluvial\, la hidromorfologia i la restauració de les lleres; de l’altra\, la reflexió sobre la renaturalització urbana i els límits i possibilitats d’integrar l’aigua i la natura a la ciutat contemporània. \n\nAlfredo Ollero Ojeda és professor i investigador de la Universidad de Zaragoza\, especialitzat en geografia física\, geomorfologia fluvial\, risc d’inundació i restauració fluvial. Vinculat a l’IUCA\, ha desenvolupat una àmplia trajectòria d’estudi sobre l’Ebre mitjà\, la dinàmica de les lleres i la gestió territorial dels rius\, participant en nombrosos projectes de recerca i divulgació sobre hidromorfologia i resiliència fluvial.  \n\nPablo de la Cal Nicolás és arquitecte i professor d’Urbanística i Ordenació del Territori a la Universidad de Zaragoza. Doctor arquitecte\, amb formació a la Universidad de Navarra i a Harvard\, ha desenvolupat una àmplia trajectòria professional i acadèmica en planificació urbana\, paisatge\, regeneració urbana i relació entre ciutat\, natura i territori.  \n\nL’entrada és lliure fins a completar aforament.
URL:https://chebro100.com/ca/agenda/trobades-a-logrono/
CATEGORIES:Destacat,Trobades
ATTACH;FMTTYPE=image/jpeg:https://chebro100.com/wp-content/uploads/2026/02/Logrono-encuentros_azul-scaled.jpg
END:VEVENT
BEGIN:VEVENT
DTSTART;TZID=UTC:20260612T110000
DTEND;TZID=UTC:20260712T200000
DTSTAMP:20260420T162016
CREATED:20250904T123246Z
LAST-MODIFIED:20260409T144917Z
UID:2896-1781262000-1783886400@chebro100.com
SUMMARY:VITÒRIA-GASTEIZ Exposició del centenari
DESCRIPTION:Vitoria-Gasteiz\, reconeguda com a Green Capital europea el 2012\, és un exemple d’integració entre natura\, ciutat i sostenibilitat. A les portes de l’Anell Verd\, el Centre d’Interpretació Ataria ofereix una visió única dels aiguamolls de Salburua\, un dels aiguamolls més valuosos del nord peninsular. Aquest entorn\, d’alt valor ecològic\, connecta la ciutat amb els paisatges fluvials de la conca de l’Ebre\, generant un espai on l’aigua\, la biodiversitat i la consciència ambiental s’interrelacionen.   \n\nAtaria no és només un centre de divulgació. És un punt de trobada per a l’educació ambiental\, la participació ciutadana i la investigació científica sobre la gestió de l’aigua i la conservació dels aiguamolls. La Confederación Hidrográfica del Ebro (CHE) manté una estreta col·laboració amb Vitoria-Gasteiz i l’entorn de Salburua\, impulsant projectes de restauració fluvial i sensibilització sobre l’ús sostenible dels recursos hídrics.   \n\nL’exposició itinerant del centenari de la CHE a Ataria convida a recórrer la història de la gestió de l’Ebre\, explorant com la cooperació entre administracions i la ciutadania ha permès protegir els ecosistemes lligats a l’aigua i garantir un equilibri entre desenvolupament urbà i conservació natural. En aquest context\, Vitoria-Gasteiz es presenta com un model de ciutat que ha integrat el riu i els aiguamolls en la seva identitat\, demostrant que la sostenibilitat és el camí cap al futur.
URL:https://chebro100.com/ca/agenda/vitoria-gasteiz-exposicio-del-centenari/
CATEGORIES:Destacat,Exposició
ATTACH;FMTTYPE=image/jpeg:https://chebro100.com/wp-content/uploads/2025/09/Ataria.jpg
END:VEVENT
BEGIN:VEVENT
DTSTART;TZID=UTC:20260618T173000
DTEND;TZID=UTC:20260618T233000
DTSTAMP:20260420T162016
CREATED:20260219T122055Z
LAST-MODIFIED:20260415T104729Z
UID:4832-1781803800-1781825400@chebro100.com
SUMMARY:Trobades a Vitoria-Gasteiz
DESCRIPTION:Les Trobades del Centenari són un cicle de converses obertes per apropar el centenari de la Confederación Hidrográfica del Ebro als territoris i a la ciutadania. A cada seu\, la sessió proposa mirar el riu i la seva conca des de diferents angles —història\, gestió de l’aigua\, paisatge\, patrimoni i reptes ambientals—\, amb un format proper\, divulgatiu i pensat per escoltar\, preguntar i comprendre.  Aquesta estructura segueix la línia ja utilitzada a la pàgina de Miranda de Ebro.  \n\nA Vitoria-Gasteiz\, la sessió se celebrarà sota el títol «Passat\, present i futur de la gestió de l’aigua a Àlaba» i abordarà dues qüestions especialment lligades al territori\, a l’evolució de la gestió hídrica i a la col·laboració entre institucions. Hi participaran José María Sanz de Galdeano Equiza\, amb la intervenció «El sistema Zadorra: evolució\, gestió del risc i col·laboració institucional»\, i Ángel Llamazares Álvarez\, amb la xerrada «La gestió pública de l’aigua urbana a Àlaba: la imprescindible col·laboració entre institucions. Visió des d’AMVISA (Vitoria-Gasteiz)».  \n\nLa sessió tindrà lloc el 18 de juny de 2026\, a les 17:30 h\, al Centre d’Interpretació Ataria\, i forma part del programa d’activitats del centenari de la CHE a Vitoria-Gasteiz. Serà una oportunitat per apropar diferents perspectives sobre la gestió de l’aigua a Àlaba: l’evolució del sistema Zadorra\, la gestió del risc\, el paper de la planificació i la cooperació entre administracions en la gestió pública de l’aigua urbana.  \n\nJosé María Sanz de Galdeano Equiza és director de Planificació i Obres des de la creació de l’Agència Basca de l’Aigua (URA)\, organisme del Govern Basc responsable de la política de l’aigua a Euskadi. Ha desenvolupat tota la seva trajectòria professional en l’àmbit de la gestió hídrica\, amb responsabilitats en planificació hidrològica\, gestió del risc d’inundació\, ordenació del territori i tramitació d’autoritzacions i concessions a les conques internes. Compta amb una àmplia experiència en la coordinació institucional en matèria d’aigua.   \n\nÁngel Llamazares Álvarez és enginyer industrial i ha desenvolupat la seva trajectòria professional en l’àmbit de l’aigua\, tant en el sector privat com en la gestió pública. Entre 2006 i 2024 va ser gerent d’AMVISA\, l’empresa pública de gestió de l’aigua urbana de Vitoria-Gasteiz\, des d’on va impulsar models de gestió orientats al servei públic i a la col·laboració institucional. Actualment es troba jubilat.   \n\nL’entrada és lliure fins a completar aforament
URL:https://chebro100.com/ca/agenda/trobades-a-vitoria-gasteiz/
CATEGORIES:Trobades
ATTACH;FMTTYPE=image/jpeg:https://chebro100.com/wp-content/uploads/2026/02/Vitoria-encuentros_2-scaled.jpg
END:VEVENT
BEGIN:VEVENT
DTSTART;TZID=UTC:20260723T090000
DTEND;TZID=UTC:20260830T210000
DTSTAMP:20260420T162016
CREATED:20250905T131617Z
LAST-MODIFIED:20251128T102317Z
UID:2900-1784797200-1788123600@chebro100.com
SUMMARY:PAMPLONA Exposició del centenari
DESCRIPTION:Pamplona\, travessada pel riu Arga\, ha estat sempre lligada a la conca de l’Ebre i a la gestió dels seus afluents a Navarra. L’Arga\, que vertebra la ciutat i la seva horta\, ha marcat la vida quotidiana\, el desenvolupament urbà i la identitat cultural i històrica de la regió. Des dels primers passos de la Confederació el 1926\, Navarra ha tingut un paper actiu en la planificació hidràulica\, amb projectes de regadiu\, regulació de cabals i actuacions ambientals orientades a la sostenibilitat de l’aigua.   \n\nLa relació de Pamplona amb la CHE té un caràcter fundacional: un lloc clau a la conca que recorda el valor de la participació territorial en aquest model pioner de gestió . L’exposició del centenari s’instal·la a la Sala Gòtica del Palau del Conestable\, en ple nucli històric\, com a espai de trobada que connecta aquesta memòria col·lectiva amb el present.
URL:https://chebro100.com/ca/agenda/pamplona-exposicio-del-centenari/
CATEGORIES:Exposició
ATTACH;FMTTYPE=image/jpeg:https://chebro100.com/wp-content/uploads/2025/09/pamplona-vuelta-del-castillo-ciudadela-vista-panoramica.jpg
END:VEVENT
BEGIN:VEVENT
DTSTART;TZID=UTC:20260730T180000
DTEND;TZID=UTC:20260730T233000
DTSTAMP:20260420T162016
CREATED:20260219T124042Z
LAST-MODIFIED:20260415T104750Z
UID:4837-1785434400-1785454200@chebro100.com
SUMMARY:Trobades a Pamplona
DESCRIPTION:Els Encontres del Centenari són un cicle de converses obertes per acostar el centenari de la Confederación Hidrográfica del Ebro al territori i a la ciutadania. A cada seu\, la sessió proposa mirar el riu i la seva conca des de diferents angles —història\, gestió de l’aigua\, paisatge\, patrimoni\, reptes ambientals— amb un format proper\, divulgatiu i pensat per escoltar\, preguntar i comprendre.  \n\nEn les properes setmanes es publicaran les persones ponents i els temes concrets de cada trobada. L’entrada és lliure fins a completar aforament.
URL:https://chebro100.com/ca/agenda/trobades-a-pamplona/
CATEGORIES:Trobades
ATTACH;FMTTYPE=image/jpeg:https://chebro100.com/wp-content/uploads/2026/02/Pamplona-encuentros-scaled.jpg
END:VEVENT
BEGIN:VEVENT
DTSTART;TZID=UTC:20260917T090000
DTEND;TZID=UTC:20261018T210000
DTSTAMP:20260420T162016
CREATED:20250906T115232Z
LAST-MODIFIED:20251128T101959Z
UID:2906-1789635600-1792357200@chebro100.com
SUMMARY:LLEIDA Exposició del centenari
DESCRIPTION:Lleida\, una ciutat marcada pel riu Segre\, ha forjat la seva identitat al voltant de l’aigua. El Segre\, un afluent essencial de l’Ebre\, ha modelat els seus horts\, ha impulsat el regadiu i ha acompanyat el desenvolupament agrícola i industrial de la província. Des de la creació de la Confederació\, la CHE ha considerat Lleida un territori clau: el 1928\, la ciutat va acollir la primera exposició agrícola organitzada per la CHE\, un esdeveniment pioner que va demostrar la implicació primerenca de la ciutat en el model de gestió de l’aigua.  La relació de Lleida amb la CHE ha estat històrica i continua sent activa\, lligada a projectes de regulació\, infraestructures de reg i actuacions ambientals que han consolidat una gestió participativa i sostenible del recurs. L’exposició itinerant del centenari s’instal·la a la Sala Polivalent del Museu de Lleida\, al centre urbà\, com a espai de trobada per recordar aquest llegat i projectar-lo cap al futur.
URL:https://chebro100.com/ca/agenda/lleida-exposicio-del-centenari/
CATEGORIES:Exposició
ATTACH;FMTTYPE=image/jpeg:https://chebro100.com/wp-content/uploads/2025/09/Lleida-rio-Segre.jpg
END:VEVENT
BEGIN:VEVENT
DTSTART;TZID=UTC:20261001T180000
DTEND;TZID=UTC:20261001T233000
DTSTAMP:20260420T162016
CREATED:20260220T101343Z
LAST-MODIFIED:20260415T104744Z
UID:4863-1790877600-1790897400@chebro100.com
SUMMARY:Trobades a Lleida
DESCRIPTION:Les Trobades del Centenari són un cicle de converses obertes per apropar el centenari de la Confederación Hidrográfica del Ebro al territori i a la ciutadania. A cada seu\, la sessió proposa mirar el riu i la seva conca des de diferents angles —història\, gestió de l’aigua\, paisatge\, patrimoni\, reptes ambientals— amb un format proper\, divulgatiu i pensat per escoltar\, preguntar i comprendre.  \n\nEn les properes setmanes es publicaran les persones ponents i els temes concrets de cada trobada. L’entrada és lliure fins a completar aforament.
URL:https://chebro100.com/ca/agenda/trobades-a-lleida/
CATEGORIES:Trobades
ATTACH;FMTTYPE=image/jpeg:https://chebro100.com/wp-content/uploads/2026/02/Lleida-encuentros-scaled.jpg
END:VEVENT
BEGIN:VEVENT
DTSTART;TZID=UTC:20261008T080000
DTEND;TZID=UTC:20270131T170000
DTSTAMP:20260420T162016
CREATED:20250915T125211Z
LAST-MODIFIED:20260415T104827Z
UID:2935-1791446400-1801414800@chebro100.com
SUMMARY:Zaragoza Exposició del centenari
DESCRIPTION:L’exposició central de la CHE se celebra a Zaragoza\, ciutat on va néixer la primera confederació hidrogràfica del món i actual seu institucional de l’organisme\, a l’edifici històric del passeig de Sagasta. \n\nL’exposició\, ubicada al Palau de Sástago\, recorre cent anys d’història de la gestió de l’aigua a la conca de l’Ebre. Des del model pioner impulsat per Lorenzo Pardo el 1926 fins als actuals plans de sostenibilitat\, Zaragoza ha estat i és l’eix d’un sistema tècnic\, social i mediambiental que connecta nou comunitats autònomes a través del riu. L’exposició mostra el paper de la CHE en la transformació del territori: infraestructures hidràuliques\, projectes de restauració fluvial\, avenços tecnològics\, iniciatives de participació ciutadana i programes de protecció del medi natural.   \n\nZaragoza i l’Ebre comparteixen una història comuna. Aquesta mostra també és un punt de trobada entre ciutadania\, institucions i agents del territori per reflexionar sobre el futur del riu que ens uneix.
URL:https://chebro100.com/ca/agenda/saragossa-exposicio-del-centenari/
CATEGORIES:Exposició
ATTACH;FMTTYPE=image/jpeg:https://chebro100.com/wp-content/uploads/2025/09/Zaragoza-rio-ebro-copia.jpg
END:VEVENT
BEGIN:VEVENT
DTSTART;TZID=UTC:20261029T090000
DTEND;TZID=UTC:20261128T210000
DTSTAMP:20260420T162016
CREATED:20250908T120920Z
LAST-MODIFIED:20260407T145646Z
UID:2914-1793264400-1795899600@chebro100.com
SUMMARY:HUESCA Exposició del centenari
DESCRIPTION:L’exposició itinerant del centenari de la CHE arriba a Huesca\, una ciutat vinculada al riu Isuela i als seus afluents. Des dels primers projectes de regadiu fins a la construcció de les grans infraestructures hidràuliques de la província oscenca\, la província d’Huesca ha tingut un paper decisiu en la història de la CHE \, participant activament en la transformació agrícola\, el desenvolupament rural i la gestió coordinada de l’aigua. \n\nL’estreta col·laboració entre Huesca i la CHE es remunta als inicis de l’organisme el 1926\, una vinculació clau per garantir la seguretat hídrica i l’ús sostenible dels recursos. Aquesta trajectòria es rememora ara a la Nau II del Centre Cultural Manuel Benito Moliner\, un edifici d’arquitectura industrial de principis del segle xx\, declarat Bé Catalogat del Patrimoni Cultural Aragonès.  \n\nL’exposició abasta cent anys de gestió de l’aigua a la conca de l’Ebre\, combinant panells explicatius\, fotografies històriques\, maquetes i contingut audiovisual. L’objectiu és conscienciar el públic sobre la importància d’una gestió sostenible de l’aigua\, un pilar essencial per al present i el futur de les comunitats locals.
URL:https://chebro100.com/ca/agenda/huesca-exposicio-del-centenari/
CATEGORIES:Exposició
ATTACH;FMTTYPE=image/jpeg:https://chebro100.com/wp-content/uploads/2025/09/huesca-vista-panoramica-desde-catedral.jpeg
END:VEVENT
BEGIN:VEVENT
DTSTART;TZID=UTC:20261112T180000
DTEND;TZID=UTC:20261112T233000
DTSTAMP:20260420T162016
CREATED:20260220T102958Z
LAST-MODIFIED:20260223T142909Z
UID:4861-1794506400-1794526200@chebro100.com
SUMMARY:Trobades a Huesca
DESCRIPTION:Les Trobades del Centenari són un cicle de converses obertes per apropar el centenari de la Confederació Hidrogràfica de l’Ebre al territori i a la ciutadania. A cada seu\, la sessió proposa mirar el riu i la seva conca des de diferents angles —història\, gestió de l’aigua\, paisatge\, patrimoni\, reptes ambientals— amb un format proper\, divulgatiu i pensat per escoltar\, preguntar i comprendre.  \n\nEn les properes setmanes es publicaran les persones ponents i els temes concrets de cada trobada. L’entrada és lliure fins a completar aforament.
URL:https://chebro100.com/ca/agenda/trobades-a-huesca/
CATEGORIES:Trobades
ATTACH;FMTTYPE=image/jpeg:https://chebro100.com/wp-content/uploads/2026/02/Huesca-encuentros_2-scaled.jpg
END:VEVENT
BEGIN:VEVENT
DTSTART;TZID=UTC:20261217T090000
DTEND;TZID=UTC:20270131T210000
DTSTAMP:20260420T162016
CREATED:20250909T122125Z
LAST-MODIFIED:20260415T104807Z
UID:2921-1797498000-1801429200@chebro100.com
SUMMARY:TORTOSA Exposició del centenari
DESCRIPTION:L’exposició itinerant del centenari de la CHE finalitza el recorregut a Tortosa \, ciutat clau per la seva relació amb el riu Ebre i el seu paper al Baix Ebre. A la vora del tram final del riu\, Tortosa ha estat sempre vinculada a la seva llera\, especialment al delta\, un espai singular marcat per reptes ambientals i de gestió. La col·laboració entre Tortosa i el CHE ha continuat durant més d’un segle\, amb projectes relacionats amb el control de l’aigua\, el regadiu i la protecció del medi natural. El Delta de l’Ebre\, declarat Parc Natural i Reserva de la Biosfera\, exemplifica la importància de la gestió sostenible per garantir el futur d’aquest ecosistema i de les comunitats que en depenen. L’exposició s’instal·la al Museu de Tortosa\, antic Escorxador Municipal\, d’estil modernista i reconvertit en espai cultural\, un indret emblemàtic que reforça el diàleg entre patrimoni\, ciutat i territori.
URL:https://chebro100.com/ca/agenda/tortosa-exposicio-del-centenari/
CATEGORIES:Exposició
ATTACH;FMTTYPE=image/jpeg:https://chebro100.com/wp-content/uploads/2025/09/Tortosa-rio-Ebro.jpg
END:VEVENT
BEGIN:VEVENT
DTSTART;TZID=UTC:20270112T180000
DTEND;TZID=UTC:20270112T233000
DTSTAMP:20260420T162016
CREATED:20260223T142029Z
LAST-MODIFIED:20260415T104810Z
UID:4875-1799776800-1799796600@chebro100.com
SUMMARY:Trobades a Tortosa
DESCRIPTION:Les Trobades del Centenari són un cicle de converses obertes per apropar el centenari de la Confederación Hidrográfica del Ebro al territori i a la ciutadania. A cada seu\, la sessió proposa mirar el riu i la seva conca des de diferents angles —història\, gestió de l’aigua\, paisatge\, patrimoni\, reptes ambientals— amb un format proper\, divulgatiu i pensat per escoltar\, preguntar i comprendre.  \n\nEn les properes setmanes es publicaran les persones ponents i els temes concrets de cada trobada. L’entrada és lliure fins a completar aforament.
URL:https://chebro100.com/ca/agenda/trobades-a-tortosa/
CATEGORIES:Trobades
ATTACH;FMTTYPE=image/jpeg:https://chebro100.com/wp-content/uploads/2026/02/Tortosa-encuentros-scaled.jpg
END:VEVENT
END:VCALENDAR