BEGIN:VCALENDAR
VERSION:2.0
PRODID:-//Chebro100 - ECPv6.15.20//NONSGML v1.0//EN
CALSCALE:GREGORIAN
METHOD:PUBLISH
X-WR-CALNAME:Chebro100
X-ORIGINAL-URL:https://chebro100.com/ca/
X-WR-CALDESC:Esdeveniments per Chebro100
REFRESH-INTERVAL;VALUE=DURATION:PT1H
X-Robots-Tag:noindex
X-PUBLISHED-TTL:PT1H
BEGIN:VTIMEZONE
TZID:UTC
BEGIN:STANDARD
TZOFFSETFROM:+0000
TZOFFSETTO:+0000
TZNAME:UTC
DTSTART:20250101T000000
END:STANDARD
END:VTIMEZONE
BEGIN:VEVENT
DTSTART;TZID=UTC:20260917T090000
DTEND;TZID=UTC:20261018T210000
DTSTAMP:20260423T173025
CREATED:20250906T115232Z
LAST-MODIFIED:20260421T112316Z
UID:2906-1789635600-1792357200@chebro100.com
SUMMARY:LLEIDA Exposició del centenari
DESCRIPTION:Lleida\, una ciutat marcada pel riu Segre\, ha forjat la seva identitat al voltant de l’aigua. El Segre\, un afluent essencial de l’Ebre\, ha modelat els seus horts\, ha impulsat el regadiu i ha acompanyat el desenvolupament agrícola i industrial de la província. Des de la creació de la Confederació\, la CHE ha considerat Lleida un territori clau: el 1928\, la ciutat va acollir la primera exposició agrícola organitzada per la CHE\, un esdeveniment pioner que va demostrar la implicació primerenca de la ciutat en el model de gestió de l’aigua.  La relació de Lleida amb la CHE ha estat històrica i continua sent activa\, lligada a projectes de regulació\, infraestructures de reg i actuacions ambientals que han consolidat una gestió participativa i sostenible del recurs. L’exposició itinerant del centenari s’instal·la a la Sala Polivalent del Museu de Lleida\, al centre urbà\, com a espai de trobada per recordar aquest llegat i projectar-lo cap al futur.
URL:https://chebro100.com/ca/agenda/lleida-exposicio-del-centenari/
CATEGORIES:Exposició
ATTACH;FMTTYPE=image/jpeg:https://chebro100.com/wp-content/uploads/2025/09/Lleida-rio-Segre.jpg
END:VEVENT
BEGIN:VEVENT
DTSTART;TZID=UTC:20261001T180000
DTEND;TZID=UTC:20261001T233000
DTSTAMP:20260423T173025
CREATED:20260220T101343Z
LAST-MODIFIED:20260415T104744Z
UID:4863-1790877600-1790897400@chebro100.com
SUMMARY:Trobades a Lleida
DESCRIPTION:Les Trobades del Centenari són un cicle de converses obertes per apropar el centenari de la Confederación Hidrográfica del Ebro al territori i a la ciutadania. A cada seu\, la sessió proposa mirar el riu i la seva conca des de diferents angles —història\, gestió de l’aigua\, paisatge\, patrimoni\, reptes ambientals— amb un format proper\, divulgatiu i pensat per escoltar\, preguntar i comprendre.  \n\nEn les properes setmanes es publicaran les persones ponents i els temes concrets de cada trobada. L’entrada és lliure fins a completar aforament.
URL:https://chebro100.com/ca/agenda/trobades-a-lleida/
CATEGORIES:Trobades
ATTACH;FMTTYPE=image/jpeg:https://chebro100.com/wp-content/uploads/2026/02/Lleida-encuentros-scaled.jpg
END:VEVENT
END:VCALENDAR