BEGIN:VCALENDAR
VERSION:2.0
PRODID:-//Chebro100 - ECPv6.15.20//NONSGML v1.0//EN
CALSCALE:GREGORIAN
METHOD:PUBLISH
X-ORIGINAL-URL:https://chebro100.com/ca/
X-WR-CALDESC:Esdeveniments per Chebro100
REFRESH-INTERVAL;VALUE=DURATION:PT1H
X-Robots-Tag:noindex
X-PUBLISHED-TTL:PT1H
BEGIN:VTIMEZONE
TZID:UTC
BEGIN:STANDARD
TZOFFSETFROM:+0000
TZOFFSETTO:+0000
TZNAME:UTC
DTSTART:20250101T000000
END:STANDARD
END:VTIMEZONE
BEGIN:VEVENT
DTSTART;TZID=UTC:20260723T090000
DTEND;TZID=UTC:20260830T210000
DTSTAMP:20260423T195000
CREATED:20250905T131617Z
LAST-MODIFIED:20260421T112157Z
UID:2900-1784797200-1788123600@chebro100.com
SUMMARY:PAMPLONA Exposició del centenari
DESCRIPTION:Pamplona\, travessada pel riu Arga\, ha estat sempre lligada a la conca de l’Ebre i a la gestió dels seus afluents a Navarra. L’Arga\, que vertebra la ciutat i la seva horta\, ha marcat la vida quotidiana\, el desenvolupament urbà i la identitat cultural i històrica de la regió. Des dels primers passos de la Confederació el 1926\, Navarra ha tingut un paper actiu en la planificació hidràulica\, amb projectes de regadiu\, regulació de cabals i actuacions ambientals orientades a la sostenibilitat de l’aigua.   \n\nLa relació de Pamplona amb la CHE té un caràcter fundacional: un lloc clau a la conca que recorda el valor de la participació territorial en aquest model pioner de gestió . L’exposició del centenari s’instal·la a la Sala Gòtica del Palau del Condestable\, en ple nucli històric\, com a espai de trobada que connecta aquesta memòria col·lectiva amb el present.
URL:https://chebro100.com/ca/agenda/pamplona-exposicio-del-centenari/
CATEGORIES:Exposició
ATTACH;FMTTYPE=image/jpeg:https://chebro100.com/wp-content/uploads/2025/09/pamplona-vuelta-del-castillo-ciudadela-vista-panoramica.jpg
END:VEVENT
END:VCALENDAR