BEGIN:VCALENDAR
VERSION:2.0
PRODID:-//Chebro100 - ECPv6.15.20//NONSGML v1.0//EN
CALSCALE:GREGORIAN
METHOD:PUBLISH
X-WR-CALNAME:Chebro100
X-ORIGINAL-URL:https://chebro100.com/ca/
X-WR-CALDESC:Esdeveniments per Chebro100
REFRESH-INTERVAL;VALUE=DURATION:PT1H
X-Robots-Tag:noindex
X-PUBLISHED-TTL:PT1H
BEGIN:VTIMEZONE
TZID:UTC
BEGIN:STANDARD
TZOFFSETFROM:+0000
TZOFFSETTO:+0000
TZNAME:UTC
DTSTART:20250101T000000
END:STANDARD
END:VTIMEZONE
BEGIN:VEVENT
DTSTART;TZID=UTC:20260612T110000
DTEND;TZID=UTC:20260712T200000
DTSTAMP:20260424T181630
CREATED:20250904T123246Z
LAST-MODIFIED:20260421T104924Z
UID:2896-1781262000-1783886400@chebro100.com
SUMMARY:VITÒRIA-GASTEIZ Exposició del centenari
DESCRIPTION:Vitoria-Gasteiz\, reconeguda com a Green Capital europea el 2012\, és un exemple d’integració entre natura\, ciutat i sostenibilitat. A les portes de l’Anell Verd\, el Centre d’Interpretació Ataria ofereix una visió única dels aiguamolls de Salburua\, un dels aiguamolls més valuosos del nord peninsular. Aquest entorn\, d’alt valor ecològic\, connecta la ciutat amb els paisatges fluvials de la conca de l’Ebre\, generant un espai on l’aigua\, la biodiversitat i la consciència ambiental s’interrelacionen.   \n\nAtaria no és només un centre de divulgació. És un punt de trobada per a l’educació ambiental\, la participació ciutadana i la investigació científica sobre la gestió de l’aigua i la conservació dels aiguamolls. La Confederación Hidrográfica del Ebro (CHE) manté una estreta col·laboració amb Vitoria-Gasteiz i l’entorn de Salburua\, impulsant projectes de restauració fluvial i sensibilització sobre l’ús sostenible dels recursos hídrics.   \n\nL’exposició itinerant del centenari de la CHE a Ataria convida a recórrer la història de la gestió de l’Ebre\, explorant com la cooperació entre administracions i la ciutadania ha permès protegir els ecosistemes lligats a l’aigua i garantir un equilibri entre desenvolupament urbà i conservació natural. En aquest context\, Vitoria-Gasteiz es presenta com un model de ciutat que ha integrat el riu i els aiguamolls en la seva identitat\, demostrant que la sostenibilitat és el camí cap al futur.
URL:https://chebro100.com/ca/agenda/vitoria-gasteiz-exposicio-del-centenari/
CATEGORIES:Destacat,Exposició
ATTACH;FMTTYPE=image/jpeg:https://chebro100.com/wp-content/uploads/2025/09/Ataria.jpg
END:VEVENT
END:VCALENDAR