BEGIN:VCALENDAR
VERSION:2.0
PRODID:-//Chebro100 - ECPv6.15.20//NONSGML v1.0//EN
CALSCALE:GREGORIAN
METHOD:PUBLISH
X-ORIGINAL-URL:https://chebro100.com/ca/
X-WR-CALDESC:Esdeveniments per Chebro100
REFRESH-INTERVAL;VALUE=DURATION:PT1H
X-Robots-Tag:noindex
X-PUBLISHED-TTL:PT1H
BEGIN:VTIMEZONE
TZID:UTC
BEGIN:STANDARD
TZOFFSETFROM:+0000
TZOFFSETTO:+0000
TZNAME:UTC
DTSTART:20250101T000000
END:STANDARD
END:VTIMEZONE
BEGIN:VEVENT
DTSTART;TZID=UTC:20260317T100000
DTEND;TZID=UTC:20260411T213000
DTSTAMP:20260422T134137
CREATED:20250902T054709Z
LAST-MODIFIED:20260421T103645Z
UID:2884-1773741600-1775943000@chebro100.com
SUMMARY:Miranda de Ebro Exposició del centenari
DESCRIPTION:Miranda de Ebro és una ciutat marcada pel riu que li dona nom. Situada al límit entre Castella i Lleó i el País Basc\, l’Ebre ha estat al llarg de la història una frontera natural\, però també un lloc de trobada\, intercanvi i desenvolupament. El pont medieval\, les antigues fàbriques i la pròpia estructura urbana testifiquen el paper fonamental de l’aigua en la identitat local i en la vida quotidiana dels seus habitants.   \n\nEl pas del riu Ebre ha impulsat l’economia\, la indústria i la mobilitat\, convertint Miranda en un centre de comunicacions estratègic i en un referent en la gestió de l’aigua a la conca. La ciutat ha patit inundacions històriques\, ha transformat les seves ribes i s’ha adaptat amb èxit als reptes de la gestió moderna de l’aigua.  \n\nLa relació de Miranda de Ebro amb la Confederación Hidrográfica del Ebro es remunta a principis del segle XX\, amb la regulació de cabals i la millora d’infraestructures per protegir la ciutat i garantir l’abastament. Avui\, Miranda continua sent un exemple de convivència amb el riu i d’integració de la gestió pública de l’aigua en el desenvolupament urbà i social.
URL:https://chebro100.com/ca/agenda/miranda-debre-exposicio-del-centenari/
CATEGORIES:Exposició
ATTACH;FMTTYPE=image/jpeg:https://chebro100.com/wp-content/uploads/2025/09/miranda-de-ebro-panoramica-copia.jpg
END:VEVENT
END:VCALENDAR