BEGIN:VCALENDAR
VERSION:2.0
PRODID:-//Chebro100 - ECPv6.15.20//NONSGML v1.0//EN
CALSCALE:GREGORIAN
METHOD:PUBLISH
X-WR-CALNAME:Chebro100
X-ORIGINAL-URL:https://chebro100.com/ca/
X-WR-CALDESC:Esdeveniments per Chebro100
REFRESH-INTERVAL;VALUE=DURATION:PT1H
X-Robots-Tag:noindex
X-PUBLISHED-TTL:PT1H
BEGIN:VTIMEZONE
TZID:Europe/Madrid
BEGIN:DAYLIGHT
TZOFFSETFROM:+0100
TZOFFSETTO:+0200
TZNAME:CEST
DTSTART:20250330T010000
END:DAYLIGHT
BEGIN:STANDARD
TZOFFSETFROM:+0200
TZOFFSETTO:+0100
TZNAME:CET
DTSTART:20251026T010000
END:STANDARD
BEGIN:DAYLIGHT
TZOFFSETFROM:+0100
TZOFFSETTO:+0200
TZNAME:CEST
DTSTART:20260329T010000
END:DAYLIGHT
BEGIN:STANDARD
TZOFFSETFROM:+0200
TZOFFSETTO:+0100
TZNAME:CET
DTSTART:20261025T010000
END:STANDARD
BEGIN:DAYLIGHT
TZOFFSETFROM:+0100
TZOFFSETTO:+0200
TZNAME:CEST
DTSTART:20270328T010000
END:DAYLIGHT
BEGIN:STANDARD
TZOFFSETFROM:+0200
TZOFFSETTO:+0100
TZNAME:CET
DTSTART:20271031T010000
END:STANDARD
END:VTIMEZONE
BEGIN:VEVENT
DTSTART;TZID=Europe/Madrid:20260305T080000
DTEND;TZID=Europe/Madrid:20260305T170000
DTSTAMP:20260422T133225
CREATED:20260225T111710Z
LAST-MODIFIED:20260407T150049Z
UID:5676-1772697600-1772730000@chebro100.com
SUMMARY:5 DE MARÇ: ANIVERSARI DE LA CHE (1926–2026)
DESCRIPTION:Avui\, 5 de març de 2026\, es compleixen cent anys de la signatura del Reial decret que va disposar la formació de la Confederació Sindical Hidrogràfica de la conca de l’Ebre (CSHE)\, antecedent directe de l’actual Confederación Hidrográfica del Ebro (CHE). \n\nEl text es va publicar l’endemà\, 6 de març\, a la Gaceta de Madrid\, i va fixar un principi que va canviar la manera de gestionar l’aigua: planificar per conca (la unitat natural del riu i els seus afluents)\, per sobre de fronteres administratives. \n\nAquell enfocament —impulsat per una visió tècnica i de llarg termini— buscava coordinar usos\, obres i conservació des d’una mateixa lògica territorial. Un segle després\, aquesta idea continua vigent\, amb reptes més complexos: sequeres més llargues\, crescudes més ràpides i una demanda més gran de transparència en la gestió pública. Voleu conèixer el context complet? .Recorreu la història del centenari a la nostra línia del temps
URL:https://chebro100.com/ca/agenda/5-de-marc-aniversari-de-la-che-1926-2026/
CATEGORIES:Informació
ATTACH;FMTTYPE=image/png:https://chebro100.com/wp-content/uploads/2026/02/5-de-marzo-manuel-lorenzo-pardo-scaled.png
END:VEVENT
END:VCALENDAR