BEGIN:VCALENDAR
VERSION:2.0
PRODID:-//Chebro100 - ECPv6.15.20//NONSGML v1.0//EN
CALSCALE:GREGORIAN
METHOD:PUBLISH
X-WR-CALNAME:Chebro100
X-ORIGINAL-URL:https://chebro100.com
X-WR-CALDESC:Eventos para Chebro100
REFRESH-INTERVAL;VALUE=DURATION:PT1H
X-Robots-Tag:noindex
X-PUBLISHED-TTL:PT1H
BEGIN:VTIMEZONE
TZID:UTC
BEGIN:STANDARD
TZOFFSETFROM:+0000
TZOFFSETTO:+0000
TZNAME:UTC
DTSTART:20250101T000000
END:STANDARD
END:VTIMEZONE
BEGIN:VEVENT
DTSTART;TZID=UTC:20260612T110000
DTEND;TZID=UTC:20260712T200000
DTSTAMP:20260421T010008
CREATED:20250904T123246Z
LAST-MODIFIED:20260409T144912Z
UID:958-1781262000-1783886400@chebro100.com
SUMMARY:VITORIA-GASTEIZ Exposición del centenario
DESCRIPTION:Vitoria-Gasteiz\, reconocida como Green Capital europea en 2012\, es un ejemplo de integración entre naturaleza\, ciudad y sostenibilidad. A las puertas del Anillo Verde\, el Centro de Interpretación Ataria ofrece una visión única de los humedales de Salburua\, uno de los humedales más valiosos del norte peninsular. Este entorno\, de alto valor ecológico\, conecta la ciudad con los paisajes fluviales de la cuenca del Ebro\, generando un espacio donde el agua\, la biodiversidad y la conciencia ambiental se interrelacionan. \n\n\n\nAtaria no es solo un centro de divulgación. Es un punto de encuentro para la educación ambiental\, la participación ciudadana y la investigación científica sobre la gestión del agua y la conservación de los humedales. La Confederación Hidrográfica del Ebro (CHE) mantiene una estrecha colaboración con Vitoria-Gasteiz y el entorno de Salburua\, impulsando proyectos de restauración fluvial y sensibilización sobre el uso sostenible de los recursos hídricos. \n\n\n\nLa exposición itinerante del centenario de la CHE en Ataria invita a recorrer la historia de la gestión del Ebro\, explorando cómo la cooperación entre administraciones y la ciudadanía ha permitido proteger los ecosistemas ligados al agua y garantizar un equilibrio entre desarrollo urbano y conservación natural. En este contexto\, Vitoria-Gasteiz se presenta como un modelo de ciudad que ha integrado el río y los humedales en su identidad\, demostrando que la sostenibilidad es el camino hacia el futuro.
URL:https://chebro100.com/agenda/vitoria-gasteiz-exposicion-del-centenario/
CATEGORIES:Destacado,Exposición
ATTACH;FMTTYPE=image/jpeg:https://chebro100.com/wp-content/uploads/2025/09/Ataria.jpg
END:VEVENT
BEGIN:VEVENT
DTSTART;TZID=UTC:20260618T173000
DTEND;TZID=UTC:20260618T233000
DTSTAMP:20260421T010008
CREATED:20260219T122055Z
LAST-MODIFIED:20260415T110420Z
UID:4735-1781803800-1781825400@chebro100.com
SUMMARY:Encuentros en Vitoria-Gasteiz
DESCRIPTION:Los Encuentros del Centenario son un ciclo de conversaciones abiertas para acercar el centenario de la Confederación Hidrográfica del Ebro a los territorios y a la ciudadanía. En cada sede\, la sesión propone mirar el río y su cuenca desde distintos ángulos —historia\, gestión del agua\, paisaje\, patrimonio y retos ambientales—\, con un formato cercano\, divulgativo y pensado para escuchar\, preguntar y comprender.  \n\n\n\nEn Vitoria-Gasteiz\, la sesión se celebrará bajo el título «Pasado\, presente y futuro de la gestión del agua en Álava» y abordará dos cuestiones especialmente ligadas al territorio\, a la evolución de la gestión hídrica y a la colaboración entre instituciones. Participarán José María Sanz de Galdeano Equiza\, con la intervención «El sistema Zadorra: evolución\, gestión del riesgo y colaboración institucional»\, y Ángel Llamazares Álvarez\, con la charla «La gestión pública del agua urbana en Álava: la imprescindible colaboración entre instituciones. Visión desde AMVISA (Vitoria-Gasteiz)». \n\n\n\nLa sesión tendrá lugar el 18 de junio de 2026\, a las 17:30 h\, en el Centro de Interpretación Ataria\, y forma parte del programa de actividades del centenario de la CHE en Vitoria-Gasteiz. Será una oportunidad para acercar distintas perspectivas sobre la gestión del agua en Álava: la evolución del sistema Zadorra\, la gestión del riesgo\, el papel de la planificación y la cooperación entre administraciones en la gestión pública del agua urbana. \n\n\n\nJosé María Sanz de Galdeano Equiza es director de Planificación y Obras desde la creación de la Agencia Vasca del Agua (URA)\, organismo del Gobierno Vasco responsable de la política del agua en Euskadi. Ha desarrollado toda su trayectoria profesional en el ámbito de la gestión hídrica\, con responsabilidades en planificación hidrológica\, gestión del riesgo de inundación\, ordenación del territorio y tramitación de autorizaciones y concesiones en las cuencas internas. Cuenta con una amplia experiencia en la coordinación institucional en materia de agua. \n\n\n\nÁngel Llamazares Álvarez es ingeniero industrial y ha desarrollado su trayectoria profesional en el ámbito del agua\, tanto en el sector privado como en la gestión pública. Entre 2006 y 2024 fue gerente de AMVISA\, la empresa pública de gestión del agua urbana de Vitoria-Gasteiz\, desde donde impulsó modelos de gestión orientados al servicio público y a la colaboración institucional. Actualmente se encuentra jubilado. \n\n\n\nLa entrada es libre hasta completar aforo
URL:https://chebro100.com/agenda/encuentros-en-vitoria-gasteiz/
CATEGORIES:Encuentros
ATTACH;FMTTYPE=image/jpeg:https://chebro100.com/wp-content/uploads/2026/02/Vitoria-encuentros_2-scaled.jpg
END:VEVENT
END:VCALENDAR