BEGIN:VCALENDAR
VERSION:2.0
PRODID:-//Chebro100 - ECPv6.15.20//NONSGML v1.0//EN
CALSCALE:GREGORIAN
METHOD:PUBLISH
X-ORIGINAL-URL:https://chebro100.com
X-WR-CALDESC:Eventos para Chebro100
REFRESH-INTERVAL;VALUE=DURATION:PT1H
X-Robots-Tag:noindex
X-PUBLISHED-TTL:PT1H
BEGIN:VTIMEZONE
TZID:UTC
BEGIN:STANDARD
TZOFFSETFROM:+0000
TZOFFSETTO:+0000
TZNAME:UTC
DTSTART:20250101T000000
END:STANDARD
END:VTIMEZONE
BEGIN:VEVENT
DTSTART;TZID=UTC:20261217T090000
DTEND;TZID=UTC:20270131T210000
DTSTAMP:20260420T161131
CREATED:20250909T122125Z
LAST-MODIFIED:20260409T144743Z
UID:1042-1797498000-1801429200@chebro100.com
SUMMARY:TORTOSA Exposición del centenario
DESCRIPTION:La exposición itinerante del centenario de la CHE finaliza su recorrido en Tortosa\, ciudad clave por su relación con el río Ebro y su papel en el Baix Ebre. A orillas del tramo final del río\, Tortosa ha estado siempre vinculada a su cauce\, especialmente al delta\, un espacio singular marcado por retos ambientales y de gestión.La colaboración entre Tortosa y la CHE se ha mantenido a lo largo de un siglo\, con proyectos de control hidráulico\, regadíos y protección del entorno natural. El delta del Ebro\, declarado Parque Natural y Reserva de la Biosfera\, ejemplifica la importancia de una gestión sostenible que garantice el futuro de este ecosistema y de las comunidades que dependen de él.La exposición se instala en el Museu de Tortosa\, antiguo Matadero Municipal\, de estilo modernista y reconvertido en espacio cultural\, un lugar emblemático que refuerza el diálogo entre patrimonio\, ciudad y territorio.
URL:https://chebro100.com/agenda/tortosa-exposicion-del-centenario/
CATEGORIES:Exposición
ATTACH;FMTTYPE=image/jpeg:https://chebro100.com/wp-content/uploads/2025/09/Tortosa-rio-Ebro.jpg
END:VEVENT
BEGIN:VEVENT
DTSTART;TZID=UTC:20270112T180000
DTEND;TZID=UTC:20270112T233000
DTSTAMP:20260420T161131
CREATED:20260223T142029Z
LAST-MODIFIED:20260409T143957Z
UID:4767-1799776800-1799796600@chebro100.com
SUMMARY:Encuentros en Tortosa
DESCRIPTION:Los Encuentros del Centenario son un ciclo de conversaciones abiertas para acercar el centenario de la Confederación Hidrográfica del Ebro al territorio y a la ciudadanía. En cada sede\, la sesión propone mirar el río y su cuenca desde distintos ángulos —historia\, gestión del agua\, paisaje\, patrimonio\, retos ambientales— con un formato cercano\, divulgativo y pensado para escuchar\, preguntar y comprender. \n\n\n\nEn las próximas semanas se publicarán las personas ponentes y los temas concretos de cada encuentro. La entrada es libre hasta completar aforo.
URL:https://chebro100.com/agenda/encuentros-en-tortosa/
CATEGORIES:Encuentros
ATTACH;FMTTYPE=image/jpeg:https://chebro100.com/wp-content/uploads/2026/02/Tortosa-encuentros-scaled.jpg
END:VEVENT
END:VCALENDAR