BEGIN:VCALENDAR
VERSION:2.0
PRODID:-//Chebro100 - ECPv6.15.20//NONSGML v1.0//EN
CALSCALE:GREGORIAN
METHOD:PUBLISH
X-ORIGINAL-URL:https://chebro100.com
X-WR-CALDESC:Eventos para Chebro100
REFRESH-INTERVAL;VALUE=DURATION:PT1H
X-Robots-Tag:noindex
X-PUBLISHED-TTL:PT1H
BEGIN:VTIMEZONE
TZID:UTC
BEGIN:STANDARD
TZOFFSETFROM:+0000
TZOFFSETTO:+0000
TZNAME:UTC
DTSTART:20250101T000000
END:STANDARD
END:VTIMEZONE
BEGIN:VEVENT
DTSTART;TZID=UTC:20260723T090000
DTEND;TZID=UTC:20260830T210000
DTSTAMP:20260421T075325
CREATED:20250905T131617Z
LAST-MODIFIED:20251128T100555Z
UID:970-1784797200-1788123600@chebro100.com
SUMMARY:PAMPLONA Exposición del centenario
DESCRIPTION:Pamplona\, atravesada por el río Arga\, ha estado siempre ligada a la cuenca del Ebro y a la gestión de sus afluentes en Navarra. El Arga\, que vertebra la ciudad y su huerta\, ha marcado la vida cotidiana\, el desarrollo urbano y la identidad cultural e histórica de la región. Desde los primeros pasos de la Confederación en 1926\, Navarra ha tenido un papel activo en la planificación hidráulica\, con proyectos de regadío\, regulación de caudales y actuaciones ambientales orientadas a la sostenibilidad del agua. \n\n\n\nLa relación de Pamplona con la CHE tiene un carácter fundacional: un lugar clave en la cuenca que recuerda el valor de la participación territorial en este modelo pionero de gestión. La exposición del centenario se instala en la Sala Gótica del Palacio del Condestable\, en pleno casco histórico\, como espacio de encuentro que conecta esta memoria colectiva con el presente.
URL:https://chebro100.com/agenda/pamplona-exposicion-del-centenario/
CATEGORIES:Exposición
ATTACH;FMTTYPE=image/jpeg:https://chebro100.com/wp-content/uploads/2025/09/pamplona-vuelta-del-castillo-ciudadela-vista-panoramica.jpg
END:VEVENT
BEGIN:VEVENT
DTSTART;TZID=UTC:20260917T090000
DTEND;TZID=UTC:20261018T210000
DTSTAMP:20260421T075325
CREATED:20250906T115232Z
LAST-MODIFIED:20251128T100622Z
UID:1034-1789635600-1792357200@chebro100.com
SUMMARY:LLEIDA Exposición del centenario
DESCRIPTION:Lleida\, ciudad marcada por el Segre\, ha forjado su identidad en torno al agua. El Segre\, afluente esencial del Ebro\, ha dado forma a su huerta\, impulsado los regadíos y acompañado el desarrollo agrícola e industrial de la provincia. Desde los inicios de la Confederación\, la CHE consideró a Lleida un territorio clave: en 1928 la ciudad acogió la primera muestra agraria organizada por la CHE\, un acto pionero que mostró la temprana implicación de la ciudad en el modelo de gestión hidráulica.La relación de Lleida con la CHE ha sido histórica y sigue siendo activa\, ligada a proyectos de regulación\, infraestructuras de riego y actuaciones ambientales que han consolidado una gestión participativa y sostenible del recurso. La exposición itinerante del centenario se instala en la Sala Polivalent del Museu de Lleida\, en pleno centro urbano\, como espacio de encuentro para recordar este legado y proyectarlo hacia el futuro.
URL:https://chebro100.com/agenda/lleida-exposicion-del-centenario/
CATEGORIES:Exposición
ATTACH;FMTTYPE=image/jpeg:https://chebro100.com/wp-content/uploads/2025/09/Lleida-rio-Segre.jpg
END:VEVENT
BEGIN:VEVENT
DTSTART;TZID=UTC:20261001T180000
DTEND;TZID=UTC:20261001T233000
DTSTAMP:20260421T075325
CREATED:20260220T101343Z
LAST-MODIFIED:20260409T143937Z
UID:4755-1790877600-1790897400@chebro100.com
SUMMARY:Encuentros en Lleida
DESCRIPTION:Los Encuentros del Centenario son un ciclo de conversaciones abiertas para acercar el centenario de la Confederación Hidrográfica del Ebro al territorio y a la ciudadanía. En cada sede\, la sesión propone mirar el río y su cuenca desde distintos ángulos —historia\, gestión del agua\, paisaje\, patrimonio\, retos ambientales— con un formato cercano\, divulgativo y pensado para escuchar\, preguntar y comprender. \n\n\n\nEn las próximas semanas se publicarán las personas ponentes y los temas concretos de cada encuentro. La entrada es libre hasta completar aforo.
URL:https://chebro100.com/agenda/encuentros-en-lleida/
CATEGORIES:Encuentros
ATTACH;FMTTYPE=image/jpeg:https://chebro100.com/wp-content/uploads/2026/02/Lleida-encuentros-scaled.jpg
END:VEVENT
BEGIN:VEVENT
DTSTART;TZID=UTC:20261008T080000
DTEND;TZID=UTC:20270131T170000
DTSTAMP:20260421T075325
CREATED:20250915T125211Z
LAST-MODIFIED:20260409T144801Z
UID:1100-1791446400-1801414800@chebro100.com
SUMMARY:ZARAGOZA Exposición del centenario
DESCRIPTION:La exposición central de la CHE se celebra en Zaragoza\, ciudad donde nació la primera confederación hidrográfica del mundo y actual sede institucional del organismo\, en el edificio histórico del paseo de Sagasta. \n\n\n\nLa exposición\, ubicada en el Palacio de Sástago\, recorre cien años de historia de la gestión del agua en la cuenca del Ebro. Desde el modelo pionero impulsado por Lorenzo Pardo en 1926 hasta los actuales planes de sostenibilidad\, Zaragoza ha sido y es el eje de un sistema técnico\, social y medioambiental que conecta nueve comunidades autónomas a través del río. La exposición muestra el papel de la CHE en la transformación del territorio: infraestructuras hidráulicas\, proyectos de restauración fluvial\, avances tecnológicos\, iniciativas de participación ciudadana y programas de protección del medio natural. \n\n\n\nZaragoza y el Ebro comparten una historia común. Esta muestra es también un punto de encuentro entre ciudadanía\, instituciones y agentes del territorio para reflexionar sobre el futuro del río que nos une.
URL:https://chebro100.com/agenda/zaragoza-exposicion-del-centenario/
CATEGORIES:Exposición
ATTACH;FMTTYPE=image/jpeg:https://chebro100.com/wp-content/uploads/2025/09/Zaragoza-rio-ebro-copia.jpg
END:VEVENT
BEGIN:VEVENT
DTSTART;TZID=UTC:20261029T090000
DTEND;TZID=UTC:20261128T210000
DTSTAMP:20260421T075325
CREATED:20250908T120920Z
LAST-MODIFIED:20251223T123951Z
UID:1038-1793264400-1795899600@chebro100.com
SUMMARY:HUESCA Exposición del centenario
DESCRIPTION:La exposición itinerante del centenario de la CHE llega a Huesca\, una ciudad vinculada al río Isuela y a sus afluentes. Desde los primeros proyectos de regadío hasta la construcción de las grandes infraestructuras hidráulicas de la provincia oscense\, la provincia de Huesca ha tenido un papel decisivo en la historia de la CHE\, participando activamente en la transformación agrícola\, el desarrollo rural y la gestión coordinada del agua. \n\n\n\nLa estrecha colaboración entre Huesca y la CHE se remonta a los inicios del organismo en 1926\, una vinculación clave para garantizar la seguridad hídrica y el uso sostenible de los recursos. Esta trayectoria se rememora ahora en la Nave II del Centro Cultural Manuel Benito Moliner\, un edificio de arquitectura industrial de principios del siglo xx\, declarado Bien Catalogado del Patrimonio Cultural Aragonés. \n\n\n\nLa muestra recorre los cien años de gestión del agua en la cuenca del Ebro\, combinando paneles explicativos\, fotografías históricas\, maquetas y contenidos audiovisuales. El objetivo es acercar al público la importancia de una gestión sostenible del agua\, un pilar esencial para el presente y el futuro de las comunidades locales.
URL:https://chebro100.com/agenda/huesca-exposicion-del-centenario/
CATEGORIES:Exposición
ATTACH;FMTTYPE=image/jpeg:https://chebro100.com/wp-content/uploads/2025/09/huesca-vista-panoramica-desde-catedral.jpeg
END:VEVENT
BEGIN:VEVENT
DTSTART;TZID=UTC:20261112T180000
DTEND;TZID=UTC:20261112T233000
DTSTAMP:20260421T075325
CREATED:20260220T102958Z
LAST-MODIFIED:20260409T143938Z
UID:4761-1794506400-1794526200@chebro100.com
SUMMARY:Encuentros en Huesca
DESCRIPTION:Los Encuentros del Centenario son un ciclo de conversaciones abiertas para acercar el centenario de la Confederación Hidrográfica del Ebro al territorio y a la ciudadanía. En cada sede\, la sesión propone mirar el río y su cuenca desde distintos ángulos —historia\, gestión del agua\, paisaje\, patrimonio\, retos ambientales— con un formato cercano\, divulgativo y pensado para escuchar\, preguntar y comprender. \n\n\n\nEn las próximas semanas se publicarán las personas ponentes y los temas concretos de cada encuentro. La entrada es libre hasta completar aforo.
URL:https://chebro100.com/agenda/encuentros-en-huesca/
CATEGORIES:Encuentros
ATTACH;FMTTYPE=image/jpeg:https://chebro100.com/wp-content/uploads/2026/02/Huesca-encuentros_2-scaled.jpg
END:VEVENT
BEGIN:VEVENT
DTSTART;TZID=UTC:20261217T090000
DTEND;TZID=UTC:20270131T210000
DTSTAMP:20260421T075325
CREATED:20250909T122125Z
LAST-MODIFIED:20260409T144743Z
UID:1042-1797498000-1801429200@chebro100.com
SUMMARY:TORTOSA Exposición del centenario
DESCRIPTION:La exposición itinerante del centenario de la CHE finaliza su recorrido en Tortosa\, ciudad clave por su relación con el río Ebro y su papel en el Baix Ebre. A orillas del tramo final del río\, Tortosa ha estado siempre vinculada a su cauce\, especialmente al delta\, un espacio singular marcado por retos ambientales y de gestión.La colaboración entre Tortosa y la CHE se ha mantenido a lo largo de un siglo\, con proyectos de control hidráulico\, regadíos y protección del entorno natural. El delta del Ebro\, declarado Parque Natural y Reserva de la Biosfera\, ejemplifica la importancia de una gestión sostenible que garantice el futuro de este ecosistema y de las comunidades que dependen de él.La exposición se instala en el Museu de Tortosa\, antiguo Matadero Municipal\, de estilo modernista y reconvertido en espacio cultural\, un lugar emblemático que refuerza el diálogo entre patrimonio\, ciudad y territorio.
URL:https://chebro100.com/agenda/tortosa-exposicion-del-centenario/
CATEGORIES:Exposición
ATTACH;FMTTYPE=image/jpeg:https://chebro100.com/wp-content/uploads/2025/09/Tortosa-rio-Ebro.jpg
END:VEVENT
BEGIN:VEVENT
DTSTART;TZID=UTC:20270112T180000
DTEND;TZID=UTC:20270112T233000
DTSTAMP:20260421T075325
CREATED:20260223T142029Z
LAST-MODIFIED:20260409T143957Z
UID:4767-1799776800-1799796600@chebro100.com
SUMMARY:Encuentros en Tortosa
DESCRIPTION:Los Encuentros del Centenario son un ciclo de conversaciones abiertas para acercar el centenario de la Confederación Hidrográfica del Ebro al territorio y a la ciudadanía. En cada sede\, la sesión propone mirar el río y su cuenca desde distintos ángulos —historia\, gestión del agua\, paisaje\, patrimonio\, retos ambientales— con un formato cercano\, divulgativo y pensado para escuchar\, preguntar y comprender. \n\n\n\nEn las próximas semanas se publicarán las personas ponentes y los temas concretos de cada encuentro. La entrada es libre hasta completar aforo.
URL:https://chebro100.com/agenda/encuentros-en-tortosa/
CATEGORIES:Encuentros
ATTACH;FMTTYPE=image/jpeg:https://chebro100.com/wp-content/uploads/2026/02/Tortosa-encuentros-scaled.jpg
END:VEVENT
END:VCALENDAR