BEGIN:VCALENDAR
VERSION:2.0
PRODID:-//Chebro100 - ECPv6.15.20//NONSGML v1.0//EN
CALSCALE:GREGORIAN
METHOD:PUBLISH
X-WR-CALNAME:Chebro100
X-ORIGINAL-URL:https://chebro100.com
X-WR-CALDESC:Eventos para Chebro100
REFRESH-INTERVAL;VALUE=DURATION:PT1H
X-Robots-Tag:noindex
X-PUBLISHED-TTL:PT1H
BEGIN:VTIMEZONE
TZID:UTC
BEGIN:STANDARD
TZOFFSETFROM:+0000
TZOFFSETTO:+0000
TZNAME:UTC
DTSTART:20250101T000000
END:STANDARD
END:VTIMEZONE
BEGIN:VEVENT
DTSTART;TZID=UTC:20260421T180000
DTEND;TZID=UTC:20260421T233000
DTSTAMP:20260421T022021
CREATED:20260406T083354Z
LAST-MODIFIED:20260413T081958Z
UID:5569-1776794400-1776814200@chebro100.com
SUMMARY:Presentación institucional del libro del Centenario: Por la cuenca del Ebro
DESCRIPTION:Presentación de Por la cuenca del Ebro\, libro del centenario de la Confederación Hidrográfica del Ebro (CHE). \n\n\n\nEl acto se celebrará el martes\, 21 de abril de 2026\, a las 19.00 horas\, en el Museo IAACC Pablo Serrano de Zaragoza. \n\n\n\nLa publicación propone un recorrido por la historia\, el territorio\, la gestión\, el patrimonio\, el medioambiente y la cultura vinculados a la cuenca del Ebro\, a través de una estructura articulada en siete capítulos. \n\n\n\nAcceso libre hasta completar el aforo.
URL:https://chebro100.com/agenda/presentacion-institucional-del-libro-del-centenario-por-la-cuenca-del-ebro/
CATEGORIES:Información
ATTACH;FMTTYPE=image/png:https://chebro100.com/wp-content/uploads/2026/04/Por-la-cuenca-del-ebro-21-de-abril_4.png
END:VEVENT
END:VCALENDAR