BEGIN:VCALENDAR
VERSION:2.0
PRODID:-//Chebro100 - ECPv6.15.20//NONSGML v1.0//EN
CALSCALE:GREGORIAN
METHOD:PUBLISH
X-ORIGINAL-URL:https://chebro100.com
X-WR-CALDESC:Eventos para Chebro100
REFRESH-INTERVAL;VALUE=DURATION:PT1H
X-Robots-Tag:noindex
X-PUBLISHED-TTL:PT1H
BEGIN:VTIMEZONE
TZID:UTC
BEGIN:STANDARD
TZOFFSETFROM:+0000
TZOFFSETTO:+0000
TZNAME:UTC
DTSTART:20240101T000000
END:STANDARD
END:VTIMEZONE
BEGIN:VEVENT
DTSTART;TZID=UTC:20251217T110000
DTEND;TZID=UTC:20260201T203000
DTSTAMP:20260421T043529
CREATED:20250901T062028Z
LAST-MODIFIED:20260225T073445Z
UID:617-1765969200-1769977800@chebro100.com
SUMMARY:REINOSA Exposición del centenario
DESCRIPTION:Reinosa\, situada junto a las fuentes de Fontibre\, es el lugar donde nace el Ebro y punto de encuentro de caminos\, paisajes y culturas del norte peninsular. La ciudad y su entorno han estado siempre vinculados a la gestión del agua\, tanto en la vida cotidiana como en la memoria industrial y social de la comarca de Campoo. Desde la regulación del embalse hasta la tradición cristalera y metalúrgica\, el Ebro ha sido motor de desarrollo y elemento central en la identidad de Reinosa. \n\n\n\nLa relación de Reinosa con la CHE es histórica. Aquí se proyectó el embalse del Ebro y se impulsaron algunas de las primeras infraestructuras hidráulicas de la cuenca\, marcando el inicio de una gestión coordinada y sostenible del recurso.
URL:https://chebro100.com/agenda/reinosa-exposicion-del-centenario/
CATEGORIES:Exposición
ATTACH;FMTTYPE=image/jpeg:https://chebro100.com/wp-content/uploads/2025/09/Reinosa-panoramica-de-la-ciudad-1-scaled.jpg
END:VEVENT
BEGIN:VEVENT
DTSTART;TZID=UTC:20260115T180000
DTEND;TZID=UTC:20260115T233000
DTSTAMP:20260421T043529
CREATED:20250901T062521Z
LAST-MODIFIED:20260225T073451Z
UID:4073-1768500000-1768519800@chebro100.com
SUMMARY:Encuentros en Reinosa
DESCRIPTION:El Centenario de la Confederación Hidrográfica del Ebro (CHE) abre en Reinosa un espacio de conversación sobre el territorio\, el embalse del Ebro y la historia que une a la ciudad con la gestión del agua. Un encuentro pensado para escuchar\, comprender y volver a mirar un paisaje que forma parte de la vida de la comarca. \n\n\n\nEl encuentro contará con la participación de Agustín Monteoliva Herreras\, que intervendrá con la ponencia «Aspectos ambientales del embalse del Ebro»\, y de Rogelio Galván Plaza\, con la charla «El nacimiento de la Confederación y el embalse del Ebro». \n\n\n\nLa sesión tendrá lugar el 15 de enero de 2026 y forma parte del programa de actividades del Centenario de la CHE. Será una oportunidad para acercar distintas perspectivas sobre el embalse: su situación actual\, los retos ambientales que plantea y el contexto histórico en el que se enmarca su gestión. \n\n\n\nAgustín Monteoliva Herreras es doctor en Biología y director de Ecohydros\, S. L.\, empresa de consultoría ambiental con sede en Cantabria dedicada al análisis y la gestión de sistemas acuáticos. Desde octubre de 2003 desempeña este cargo y ha participado en más de un centenar de proyectos técnicos y científicos de ámbito regional\, nacional e internacional relacionados con masas de agua continentales\, embalses y programas de seguimiento ambiental. \n\n\n\nRogelio Galván Plaza es ingeniero técnico de obras públicas y licenciado en Historia. Trabaja en la Confederación Hidrográfica del Ebro desde 1998 y actualmente dirige el Servicio de Estudios Económicos y Sociales de la Oficina de Planificación Hidrológica. Como coordinador institucional de la Red de Expertos en Agua\, participa habitualmente en trabajos técnicos y foros especializados sobre planificación hidrológica y gestión ambiental de la cuenca\, aportando una perspectiva histórica y social al análisis de los recursos hídricos.
URL:https://chebro100.com/agenda/encuentros-en-reinosa/
CATEGORIES:Encuentros
ATTACH;FMTTYPE=image/png:https://chebro100.com/wp-content/uploads/2025/12/La-Naval-Reinosa-1960.png
END:VEVENT
END:VCALENDAR